BEGIN:VCALENDAR
VERSION:2.0
PRODID:-//wp-events-plugin.com//7.2.3.1//EN
TZID:America/Chicago
X-WR-TIMEZONE:America/Chicago
BEGIN:VEVENT
UID:387@kicmke.org
DTSTART;TZID=America/Chicago:20240926T173000
DTEND;TZID=America/Chicago:20240926T190000
DTSTAMP:20240901T192124Z
URL:https://kicmke.org/events/womens-center-dinner-service-sept2024/
SUMMARY:Women's Center Dinner Service
DESCRIPTION:REGISTER HERE\nJoin us in preparing and serving a hot dinner to
  women and their children (about 70 total) staying at the Women’s Center
  Shelter. Founded in 1980\, the Milwaukee Women’s Center provides compre
 hensive services and treatment for women\, men\, and children whose lives 
 have been affected by domestic violence\, addiction\, mental health issues
 \, homelessness\, and poverty.\nActivities\nOur volunteer group of childre
 n and caregivers will serve dinner to about 35 women and their children st
 aying at the shelter. KIC will be bringing food to prepare on-site. You ca
 n sign up to bring ingredients that are needed. There is a kitchen at the 
 center where we will prep the meal service. Then we will serve dinner to t
 he women and their children. Following the meal\, we will clean up.\nImpac
 t\nKids and their caregivers will brighten the evening of families staying
  at the shelter. Kids will see that serving others can be fun and that the
 y are capable of making a difference.\nWhen &amp\; Where\nThursday\, Septe
 mber 26  from 5:30-7 p.m. (Dinner service begins at 6 p.m.)\n\nMilwaukee 
 Women’s Center Shelter of Community Advocates is in the Burnham Park Nei
 ghborhood (for the safety of the residents\, addresses will be provided af
 ter sign-up).\nRegistration Information\nParticipant Cap: 10 volunteers\n
 \nAge: All ages are welcome to help!\n\nCost: Free\n\nMaterials: Please we
 ar comfortable clothes and closed-toed shoes. Plastic gloves and hairnets 
 will be provided upon arrival.\n\nQuestions: Email katiem@kicmke.org with
  any specific questions.\nCancellations: We count on our registered volunt
 eers to make these projects come to life. However\, we understand illness 
 and emergencies do come up so if you can no longer participate\, please em
 ail katiem@kicmke.org ASAP so we can fill your spot.\n\nOur Partner\nFor m
 ore information about Community Advocates and the Women’s Center\, visit
  their website.
ATTACH;FMTTYPE=image/jpeg:https://kicmke.org/wp-content/uploads/2024/06/Wo
 mens-Center-Dinner-Service.png
CATEGORIES:Meals
END:VEVENT
BEGIN:VTIMEZONE
TZID:America/Chicago
X-LIC-LOCATION:America/Chicago
BEGIN:DAYLIGHT
DTSTART:20240310T030000
TZOFFSETFROM:-0600
TZOFFSETTO:-0500
TZNAME:CDT
END:DAYLIGHT
END:VTIMEZONE
END:VCALENDAR