BEGIN:VCALENDAR
VERSION:2.0
PRODID:-//wp-events-plugin.com//7.2.3.1//EN
TZID:America/Chicago
X-WR-TIMEZONE:America/Chicago
BEGIN:VEVENT
UID:413@kicmke.org
DTSTART;TZID=America/Chicago:20241219T171500
DTEND;TZID=America/Chicago:20241219T190000
DTSTAMP:20241127T041630Z
URL:https://kicmke.org/events/womens-center-dinner-service-dec-2024/
SUMMARY:Women's Center Dinner Service
DESCRIPTION:REGISTER HERE\nJoin us in preparing and serving a hot dinner to
  women and their children (about 70 total) staying at the Women’s Center
  Shelter. Founded in 1980\, the Milwaukee Women’s Center provides compre
 hensive services and treatment for women\, men\, and children whose lives 
 have been affected by domestic violence\, addiction\, mental health issues
 \, homelessness\, and poverty.\nActivities\nOur volunteer group of childre
 n and caregivers will serve dinner to about 35 women and their children st
 aying at the shelter. KIC will be bringing food to prepare on-site. You ca
 n sign up to bring ingredients that are needed. There is a kitchen at the 
 center where we will prep the meal service. Then we will serve dinner to t
 he women and their children. Following the meal\, we will clean up.\nImpac
 t\nKids and their caregivers will brighten the evening of families staying
  at the shelter. Kids will see that serving others can be fun and that the
 y are capable of making a difference.\nWhen &amp\; Where\nThursday\, Decem
 ber 19\n\n5:15-7 p.m. (Dinner service begins at 6 p.m.)\n\nMilwaukee Women
 ’s Center Shelter of Community Advocates is in the Burnham Park Neighbor
 hood (for the safety of the residents\, addresses will be provided after s
 ign-up).\n\nCan't make it to this date or want to serve at the Women's Cen
 ter twice this month? Click here to register for the Dec. 26 event.\nRegis
 tration Information\nParticipant Cap: 8 volunteers\n\nAge: All ages are w
 elcome to help!\n\nCost: Free\n\nMaterials: Please wear comfortable clothe
 s and closed-toed shoes. Plastic gloves and hairnets will be provided upon
  arrival.\n\nQuestions: Email katiem@kicmke.org with any specific questio
 ns.\nCancellations: We count on our registered volunteers to make these pr
 ojects come to life. However\, we understand illness and emergencies do co
 me up so if you can no longer participate\, please email katiem@kicmke.org
  ASAP so we can fill your spot.\n\nOur Partner\nFor more information about
  Community Advocates and the Women’s Center\, visit their website.
ATTACH;FMTTYPE=image/jpeg:https://kicmke.org/wp-content/uploads/2024/06/Wo
 mens-Center-Dinner-Service.png
CATEGORIES:Meals
END:VEVENT
BEGIN:VTIMEZONE
TZID:America/Chicago
X-LIC-LOCATION:America/Chicago
BEGIN:STANDARD
DTSTART:20241103T010000
TZOFFSETFROM:-0500
TZOFFSETTO:-0600
TZNAME:CST
END:STANDARD
END:VTIMEZONE
END:VCALENDAR