BEGIN:VCALENDAR
VERSION:2.0
PRODID:-//wp-events-plugin.com//7.2.3.1//EN
TZID:America/Chicago
X-WR-TIMEZONE:America/Chicago
BEGIN:VEVENT
UID:608@kicmke.org
DTSTART;TZID=America/Chicago;VALUE=DATE:20251201
DTEND;TZID=America/Chicago;VALUE=DATE:20251218
DTSTAMP:20251205T023348Z
URL:https://kicmke.org/events/uplifting-holiday-cards-for-foster-families-
 dec-2025/
SUMMARY:Uplifting Holiday Cards for Foster Families with Fostering Communit
 y
DESCRIPTION:REGISTER NOW\nNot everyone can be a foster family\, but everyon
 e can do something to impact kids and families involved in foster care. Fo
 stering Community is hosting a special event in December to uplift foster 
 families. We need your family’s help to create holiday cards filled with
  messages of love and support for the foster families and kids in attendan
 ce. We all know how challenging family life can be and words of support ca
 n make all the difference in knowing you aren’t alone.\nActivities\nMake
  homemade cards with whatever you have on hand\, or buy cards and fill the
 m with positive messages\, silly seasonal jokes\, and inspiration. Please 
 leave the exterior envelopes blank. Also\, please stay away from religious
  phrases as we do not know the religion of the families attending this eve
 nt.\n\nImpact\nHelp foster families and the kids they are caring for feel 
 supported and loved! Plus your kids will grow their awareness and capabili
 ty to help others through uplifting words.\n\nWhen &amp\; Where\nCreate th
 ese cards at your home or your group’s meeting place!\nDrop off your fin
 ished cards or mail them in a larger envelope by Wednesday\, December 17. 
 (Address will be provided following registration.)\n\nRegistration Informa
 tion\nParticipation Cap: 300 cards needed\nAges: All ages\nCost: The cost 
 of a card or make your own!\nQuestions: Please email Erin LeMoine at erin@
 kicmke.org.\nCancellations: If you are unable to complete your cards\, ple
 ase contact erin@kicmke.org..\n\nOur Partner\nFostering Community’s miss
 ion is to encourage and empower families involved in adoption and foster c
 are by supporting them as a community.\nLearn more about Fostering Communi
 ty on their website.
ATTACH;FMTTYPE=image/jpeg:https://kicmke.org/wp-content/uploads/2025/11/Ho
 liday-Cards.png
CATEGORIES:On Your Own
END:VEVENT
BEGIN:VTIMEZONE
TZID:America/Chicago
X-LIC-LOCATION:America/Chicago
BEGIN:STANDARD
DTSTART:20251102T010000
TZOFFSETFROM:-0500
TZOFFSETTO:-0600
TZNAME:CST
END:STANDARD
END:VTIMEZONE
END:VCALENDAR