BEGIN:VCALENDAR
VERSION:2.0
PRODID:-//wp-events-plugin.com//7.2.3.1//EN
TZID:America/Chicago
X-WR-TIMEZONE:America/Chicago
BEGIN:VEVENT
UID:209@kicmke.org
DTSTART;TZID=America/Chicago:20230426T170000
DTEND;TZID=America/Chicago:20230426T190000
DTSTAMP:20230425T202121Z
URL:https://kicmke.org/events/unleash-creativity-alongside-foster-families
 -at-tosa-block-party/
SUMMARY:Unleash Creativity Alongside Foster Families at Tosa Block Party
DESCRIPTION:Not everyone can be a foster family\, but everyone can do somet
 hing to impact kids and families involved in foster care. Connect with fos
 ter families supported by OneHope27 and enjoy an evening of creative play 
 at Tosa Block Party!\nWe are excited to offer this fun opportunity to brin
 g KIC and OneHope27 families together to build community and connection th
 rough creative play! All children need opportunities for creative play and
  creative thinking. Creative experiences can help children express and cop
 e with their feelings. It provides opportunities to try out new ideas\, ne
 w ways of thinking\, and problem-solving. Play allows kids to exercise the
 ir powers of choice and decision-making. And\, dramatic play encourages ch
 ildren to learn social skills as they play with others.\nOneHope27’s mis
 sion is to bring hope to kids and families involved in foster care in Milw
 aukee County through support\, encouragement\, and connection in a safe an
 d supportive environment.\n\nPurpose\nBuild community and help foster fami
 lies and the kids they are caring for feel supported and loved through an 
 opportunity for fun creative play for the whole family.\n\nImpact\nFamilie
 s from KIC and OneHope27 will come together to join in creative play\, mak
 e new friends\, and grow a community that empowers our children to grow ki
 ndness in our world today.\n\nWhen and Where\nWednesday\, April 26 from 5-
 7 p.m.\n10600 W. Bluemound Rd\nWauwatosa\, WI 53226\nParking: Parking lot 
 in front of building. Street parking is also available.\nFood: Pizza dinne
 r and beverages\n\nRegistration Information\nCLICK HERE TO REGISTER\nParti
 cipant Cap: 20 individuals\nAge: All Ages. They have legos for the bigs a
 nd duplos for the littles!\nCost: Free\nQuestions: If you have any questio
 ns\, please contact Erin LeMoine at erinlemoine@kicmke.org.\nCancellation
 s: In the event that life happens and you are unable to attend\, please co
 ntact erinlemoine@kicmke.org as soon as possible so we can open up this pr
 oject to the waitlist.\n\nLearn more about OneHope27 on their website.\nLe
 arn more about Tosa Block Party on their website.
ATTACH;FMTTYPE=image/jpeg:https://kicmke.org/wp-content/uploads/2023/03/To
 sa-Block-Party.png
CATEGORIES:Creativity
LOCATION:Bluemound Road\, 10600 W. Bluemound Rd\, Wauwatosa\, Wisconsin\, 5
 3226\, United States
X-APPLE-STRUCTURED-LOCATION;VALUE=URI;X-ADDRESS=10600 W. Bluemound Rd\, Wau
 watosa\, Wisconsin\, 53226\, United States;X-APPLE-RADIUS=100;X-TITLE=Blue
 mound Road:geo:0,0
END:VEVENT
BEGIN:VTIMEZONE
TZID:America/Chicago
X-LIC-LOCATION:America/Chicago
BEGIN:DAYLIGHT
DTSTART:20230312T030000
TZOFFSETFROM:-0600
TZOFFSETTO:-0500
TZNAME:CDT
END:DAYLIGHT
END:VTIMEZONE
END:VCALENDAR