BEGIN:VCALENDAR
VERSION:2.0
PRODID:-//wp-events-plugin.com//7.2.3.1//EN
TZID:America/Chicago
X-WR-TIMEZONE:America/Chicago
BEGIN:VEVENT
UID:481@kicmke.org
DTSTART;TZID=America/Chicago:20250409T160000
DTEND;TZID=America/Chicago:20250409T173000
DTSTAMP:20250330T154103Z
URL:https://kicmke.org/events/unfolding-generosity-clothing-sort-waukesha-
 hope-center-april-2025/
SUMMARY:Unfolding Generosity Clothing Sort
DESCRIPTION:REGISTER HERE\nSort clothing donations at the Hope Center in Wa
 ukesha with your family! Each article of clothing obtained from Hope Cente
 r allows guests to put more money towards other life essentials like housi
 ng needs.\n\nActivities\nFamilies will be sorting clothing donations\, sel
 ecting gently used items\, and hanging them in the correct location in the
  clothing shop. Kids of all ages can work together with their families to 
 organize Hope Center’s clothing shop so that clients can experience an o
 rganized shopping experience at no cost to them.\nImpact\nKids will put th
 eir energy and sorting skills to good use. Families will experience the jo
 y of volunteering together as kids learn that they are capable of making a
  big difference!\nWhen &amp\; Where\nWednesday\, April 9 from 4-5:30 p.m.\
 nHope Center - 101 W. Broadway\, Waukesha\, WI\, 53186\n\nThere is a free 
 parking lot at Hope Center.\n\nThe Clothing Shop is on the lower level. Th
 e clothing shop coordinator Karen will get us started and trained when we 
 arrive.\nRegistration Information\nParticipants: 8 volunteers\nAges: All a
 ges\nCost: Free\nMaterials: Hope House is always looking for more clothing
  donations for their Clothing Shop! Clothing can be any age\, gender\, or 
 type\, and must be new or gently used (no stains\, rips\, etc). If you hav
 e a bag of outgrown clothing\, feel free to bring it along!\nQuestions: Em
 ail joanna@kicmke.org with any questions. A confirmation email with more d
 etails will be sent out a few days after you register. \nCancellations: We
  count on our registered volunteers to make these projects come to life. H
 owever\, we understand illness and emergencies do come up. If you can no l
 onger participate\, please email joanna@kicmke.org ASAP so we can fill you
 r spot.\n\nOur Partner\nThe Clothing Shop program at Hope Center has helpe
 d tens of thousands of people obtain free quality clothing from the genero
 us donations of its community members. The Clothing Shop offers everyday c
 lothing for all ages and even a section devoted to career-type clothing. R
 esidents of Waukesha County who are in low-to low-middle income levels are
  able to select clothes at no charge.
ATTACH;FMTTYPE=image/jpeg:https://kicmke.org/wp-content/uploads/2024/04/So
 rt-Clothing-Donations-at-Hope-Center.png
CATEGORIES:Children and Families
END:VEVENT
BEGIN:VTIMEZONE
TZID:America/Chicago
X-LIC-LOCATION:America/Chicago
BEGIN:DAYLIGHT
DTSTART:20250309T030000
TZOFFSETFROM:-0600
TZOFFSETTO:-0500
TZNAME:CDT
END:DAYLIGHT
END:VTIMEZONE
END:VCALENDAR