BEGIN:VCALENDAR
VERSION:2.0
PRODID:-//wp-events-plugin.com//7.2.3.1//EN
TZID:America/Chicago
X-WR-TIMEZONE:America/Chicago
BEGIN:VEVENT
UID:497@kicmke.org
DTSTART;TZID=America/Chicago:20250514T160000
DTEND;TZID=America/Chicago:20250514T173000
DTSTAMP:20250428T024405Z
URL:https://kicmke.org/events/unfolding-generosity-clothing-sort-may-2025/
SUMMARY:Unfolding Generosity Clothing Sort
DESCRIPTION:REGISTER HERE\nSort clothing donations at the Hope Center in Wa
 ukesha with your family! Each article of clothing obtained from Hope Cente
 r allows guests to put more money towards other life essentials like housi
 ng needs.\n\nActivities\nFamilies will be sorting clothing donations\, sel
 ecting gently used items\, and hanging them in the correct location in the
  clothing shop. Kids of all ages can work together with their families to 
 organize Hope Center’s clothing shop so that clients can experience an o
 rganized shopping experience at no cost to them.\nImpact\nKids will put th
 eir energy and sorting skills to good use. Families will experience the jo
 y of volunteering together as kids learn that they are capable of making a
  big difference!\nWhen &amp\; Where\nWednesday\, May 14\, 2025\, 4-5:30 p.
 m.\nHope Center - 101 W. Broadway\, Waukesha\, WI\, 53186\n\nThere is a fr
 ee parking lot at Hope Center.\n\nThe Clothing Shop is on the lower level.
  The clothing shop coordinator\, Karen\, will get us started and trained w
 hen we arrive.\nRegistration Information\nParticipants: 8 volunteers\nAges
 : All ages\nCost: Free\nMaterials: Hope House is always looking for more c
 lothing donations for its Clothing Shop! Clothing can be for any age\, gen
 der\, or type\, and must be new or gently used (no stains\, rips\, etc). I
 f you have a bag of outgrown clothing\, bring it along!\nQuestions: Email 
 joanna@kicmke.org with any questions. A confirmation email with more detai
 ls will be sent out a few days after you register. \nCancellations: We cou
 nt on our registered volunteers to make these projects come to life. Howev
 er\, we understand illness and emergencies do come up. If you can no longe
 r participate\, please email joanna@kicmke.org ASAP so we can fill your sp
 ot.\n\nOur Partner\nThe Hope Center is a non-profit organization that has 
 been serving the basic needs of financial assistance\, food\, and clothing
  in Waukesha County for more than thirty years.  The Clothing Shop progra
 m has helped tens of thousands of people obtain free quality clothing beca
 use of generous donations.\nThe Clothing Shop offers everyday clothing for
  all ages and even a section devoted to career-type clothing. Residents of
  Waukesha County who are in low- to low-middle-income levels can select cl
 othes at no charge. In 2018\, there were 33\,529 visits to the Clothing Sh
 op. They received 236\,406 articles of donated clothing\, and those not us
 ed were passed on to a third-world ministry. Each article of clothing obta
 ined from Hope Center allows guests to put more money towards their housin
 g needs.
ATTACH;FMTTYPE=image/jpeg:https://kicmke.org/wp-content/uploads/2024/04/So
 rt-Clothing-Donations-at-Hope-Center.png
CATEGORIES:Children and Families
END:VEVENT
BEGIN:VTIMEZONE
TZID:America/Chicago
X-LIC-LOCATION:America/Chicago
BEGIN:DAYLIGHT
DTSTART:20250309T030000
TZOFFSETFROM:-0600
TZOFFSETTO:-0500
TZNAME:CDT
END:DAYLIGHT
END:VTIMEZONE
END:VCALENDAR