BEGIN:VCALENDAR
VERSION:2.0
PRODID:-//wp-events-plugin.com//7.2.3.1//EN
TZID:America/Chicago
X-WR-TIMEZONE:America/Chicago
BEGIN:VEVENT
UID:356@kicmke.org
DTSTART;TZID=America/Chicago;VALUE=DATE:20240608
DTEND;TZID=America/Chicago;VALUE=DATE:20240908
DTSTAMP:20240602T182136Z
URL:https://kicmke.org/events/summer-lemonade-stand-cause-summer2024/
SUMMARY:Summer Lemonade Stand for a Cause
DESCRIPTION:REGISTER HERE\nDo your little entrepreneurs love running summer
  Lemonade Stands? Put those budding small business skills to work and invi
 te your kids to host a lemonade stand for Kids Impact Community (KIC)!\n\n
 KIC provides service projects throughout the year at no cost to our partic
 ipating families. The donations from these lemonade stands will help KIC p
 ut on future projects to support our community.\nActivities\nFrom creative
  marketing to financial management\, your kids will get to take charge. En
 courage your children to create a flyer or use one of our templates (which
  will be sent following registration) to market their lemonade stand. We a
 lso have a tracker sheet that they can use. This will help your kids track
  their sales and identify how much they will be able to give back. We will
  give you information on how to give your profits back to KIC once you reg
 ister. You can choose to donate some\, all\, or a part of the profits.\nIm
 pact\nYour kids will get to use their energy and passion to help give back
  to KIC and fund further projects for our community. They will learn how t
 o engage their circle of neighbors\, friends\, and families to support a g
 reat cause.\nWhen &amp\; Where\nHost a lemonade stand at any point through
 out the summer on your front lawn or in your neighborhood.\nRegistration I
 nformation\nAge: All ages. Great for the whole family!\n\nCost: However mu
 ch you'd like to spend on lemonade stand supplies.\n\nQuestions: Email mar
 ia@kicmke.org with any specific questions.
ATTACH;FMTTYPE=image/jpeg:https://kicmke.org/wp-content/uploads/2024/06/Su
 mmer-Lemonade-Stand-for-a-Cause.png
CATEGORIES:On Your Own
END:VEVENT
BEGIN:VTIMEZONE
TZID:America/Chicago
X-LIC-LOCATION:America/Chicago
BEGIN:DAYLIGHT
DTSTART:20240310T030000
TZOFFSETFROM:-0600
TZOFFSETTO:-0500
TZNAME:CDT
END:DAYLIGHT
END:VTIMEZONE
END:VCALENDAR