BEGIN:VCALENDAR
VERSION:2.0
PRODID:-//wp-events-plugin.com//7.2.3.1//EN
TZID:America/Chicago
X-WR-TIMEZONE:America/Chicago
BEGIN:VEVENT
UID:495@kicmke.org
DTSTART;TZID=America/Chicago:20250507T180000
DTEND;TZID=America/Chicago:20250507T200000
DTSTAMP:20250428T051527Z
URL:https://kicmke.org/events/showers-of-love-sort-may7/
SUMMARY:Showers of Love: Help Sort Baby and Maternity Gear
DESCRIPTION:REGISTER HERE\nFrom maternity clothing to baby gear to toddler 
 necessities - expanding your family requires a lot of new stuff! In April\
 , KIC families collected gently used maternity\, baby\, and toddler gear t
 hrough our April Showers of Love project.\n\nNow we need help sorting all 
 these items in preparation for the Charles Antetokounmpo Family Foundation
 ’s (CAFF) Family Day where they will be distributed. This event will bri
 ng together growing and expecting families currently living on a limited i
 ncome for a day of joy\, community connection\, and essential support. Eac
 h participating family will receive basic necessities\, such as children's
  clothing and baby gear\, to help them raise healthy children.\n\nDue to t
 he volume of items and sorting process\, we are looking for kids ages 8+ a
 nd their caregivers to help. \nActivities\nHelp sort various items\, incl
 uding clothes\, diapers\, bottles\, formula\, toys\, books\, and more. All
  of these items will be organized as a store at CAFF Family Day\, where ca
 regivers can select the gear their family needs.\nImpact\nKids will learn 
 the value of a circular economy by passing along baby and toddler products
  they no longer need to families who could use some extra support. They wi
 ll also learn about organization strategies and preparing for a large scal
 e event.\n\nWhen &amp\; Where\nWednesday\, May 7  from 6-8 p.m.\n\n\nNort
 h Shore Presbyterian Church\n4048 N. Bartlett Avenue\nShorewood\, WI 53211
 \nRegistration Information\nParticipant Cap: 12\nAge: Ages 8+\nCost: Free\
 nQuestions: Email lizzy@kicmke.org with any specific questions. \n\nOur P
 artners\nCharles Antetokounmpo Family Foundation\nThe Charles Antetokounmp
 o Family Foundation (CAFF) is the social impact organization founded by th
 e Antetokounmpo family. CAFF invests in local nonprofits and change-makers
 \, fueling a global movement for sustainable social change. CAFF works to 
 create a world where people of all walks of life come together to create o
 pportunities that allow everyone to reach their potential. The Antetokounm
 pos are proof that where opportunity and determination meet\, all things a
 re possible\, and CAFF was created to mobilize that impact on a global sca
 le. CAFF seeks to inspire others to get involved\, extending the impact fa
 r beyond what one family can do together. For more information\, visit The
  Charles Antetokounmpo Family Foundation (CAFF) website.\nBabbling Babes\n
 Babbling Babes is on a mission to bring the village back for local moms by
  fostering connection between local moms and the local businesses in their
  neighborhood. They host Mom &amp\; Baby Coffee Dates in local coffee shop
 s\, have volunteer gatherings for local nonprofits that support local fami
 lies\, have Moms’ Nights and Staycations at local hotels and resorts\, a
 nd have six chapters of monthly BB Book clubs. Babbling Babes also offers 
 an off-social-media safe space\, The Village\, for local moms to connect a
 nd bring connections offline and in-person. Babbling Babes sees the women 
 behind the mom label and is bringing the village back for local moms one g
 athering at a time.\n\nAbout Kids Impact Community\nKids Impact Community 
 develops and coordinates monthly service opportunities for children ages 0
 -tween to volunteer alongside their caregivers. These opportunities show k
 ids the power of generosity while making new connections throughout our Mi
 lwaukee community. Join us at an upcoming project and learn how little han
 ds and big hearts can make a difference in our community!\nCheck out our f
 ull calendar of projects here! Subscribe to our monthly e-newsletter her
 e.
ATTACH;FMTTYPE=image/jpeg:https://kicmke.org/wp-content/uploads/2025/04/Sh
 owers-Sort-2.jpg
CATEGORIES:Children and Families
END:VEVENT
BEGIN:VTIMEZONE
TZID:America/Chicago
X-LIC-LOCATION:America/Chicago
BEGIN:DAYLIGHT
DTSTART:20250309T030000
TZOFFSETFROM:-0600
TZOFFSETTO:-0500
TZNAME:CDT
END:DAYLIGHT
END:VTIMEZONE
END:VCALENDAR