BEGIN:VCALENDAR
VERSION:2.0
PRODID:-//wp-events-plugin.com//7.2.3.1//EN
TZID:America/Chicago
X-WR-TIMEZONE:America/Chicago
BEGIN:VEVENT
UID:410@kicmke.org
DTSTART;TZID=America/Chicago:20241217T153000
DTEND;TZID=America/Chicago:20241217T180000
DTSTAMP:20241103T192655Z
URL:https://kicmke.org/events/serving-pantry-guests-dec-2024/
SUMMARY:Serving Pantry Guests
DESCRIPTION:REGISTER NOW\nWork with your child at the Kinship Community Foo
 d Center (formerly called Riverwest Food Pantry) – an organization focus
 ed on coming together around food to relieve hunger\, improve lives\, and 
 grow community well-being. While their name has changed\, their mission is
  still the same! Your child will be immersed in an environment where they 
 will experience their capabilities to help others and also be mentored in 
 acts of dignity and grace by those very same people. The Kinship Community
  Food Center embodies their motto: In a community of generosity everyone g
 ives and everyone receives.\nActivities\nYou and your child will assist sh
 oppers with registration and grocery selection\, help shoppers carry bags\
 , serve snacks to shoppers\, help in the kid's corner\, and clean up. Hand
 s-on orientation and assignments are given upon arrival.\nWe will also be 
 collecting reusable bags to donate to the pantry. Their goal is to elimina
 te as many plastic shopping bags as possible. If you have extra reusable b
 ags at home\, please consider bringing some with you to donate!\n\nImpact\
 nKids will help to eliminate food insecurity in Milwaukee.\nWhen &amp\; Wh
 ere\nTuesday\, December 17\n3:30-6 p.m.\nSt. Casimir’s Parish Hall\n924 
 E. Clarke St\, Milwaukee\nThe hall is located on the basement level of the
  school building behind Our Lady of Divine Providence Parish/St. Casimir. 
 Volunteer entrance doors are on the west side of the building in the alley
  between the church and the school. On Saturday mornings we ask that volun
 teers find street parking (on Clarke or Weil) as the lot is reserved for s
 hoppers.\n\nRegistration Information\nParticipant Cap: 3-4 families or 10 
 volunteers\n\nAge: 6 years and older\n\nAttire: Please dress casually in c
 losed-toe shoes and keep all your valuables at home. Wear your Kids Impact
  Community shirt if you have one. Masks are optional.\n\nCost: Free. Kins
 hip Community Food Center does accept non-perishable food donations if you
 r family would like to bring something to donate.\n\nQuestions: Reach out 
 to Lizzy at lizzy@kicmke.org with any questions.\n\nCancellations: We un
 derstand that illness and emergencies can happen. If you cannot make it\, 
 please let Lizzy know at lizzy@kicmke.org as soon as possible so we can o
 pen up this opportunity to a family on the waitlist.\nOur Partner\nLearn m
 ore about the Kinship Community Food Center on their website: www.kinshipm
 ke.org
ATTACH;FMTTYPE=image/jpeg:https://kicmke.org/wp-content/uploads/2023/04/Se
 rving-Pantry-Guests.png
CATEGORIES:Meals
END:VEVENT
BEGIN:VTIMEZONE
TZID:America/Chicago
X-LIC-LOCATION:America/Chicago
BEGIN:STANDARD
DTSTART:20241103T010000
TZOFFSETFROM:-0500
TZOFFSETTO:-0600
TZNAME:CST
END:STANDARD
END:VTIMEZONE
END:VCALENDAR