BEGIN:VCALENDAR
VERSION:2.0
PRODID:-//wp-events-plugin.com//7.2.3.1//EN
TZID:America/Chicago
X-WR-TIMEZONE:America/Chicago
BEGIN:VEVENT
UID:355@kicmke.org
DTSTART;TZID=America/Chicago:20240820T153000
DTEND;TZID=America/Chicago:20240820T180000
DTSTAMP:20240602T173050Z
URL:https://kicmke.org/events/serving-pantry-guests-august2024/
SUMMARY:Serving Pantry Guests
DESCRIPTION:REGISTER NOW\nWork with your child at the Kinship Community Foo
 d Center (formerly called Riverwest Food Pantry) – an organization focus
 ed on coming together around food to relieve hunger\, improve lives\, and 
 grow community well-being. While their name has changed\, their mission is
  still the same! Kinship empowers residents to create nourishment\, belong
 ing\, and prosperity in low-income communities through the power of food.\
 nActivities\nYou and your child will assist shoppers with registration and
  grocery selection\, help shoppers carry bags\, serve snacks\, share food 
 with shoppers\, and clean up. Hands-on orientation and assignments are giv
 en upon arrival.\nWe will also be collecting reusable bags to donate to th
 e pantry. Their goal is to eliminate as many plastic shopping bags as poss
 ible. If you have extra reusable bags at home\, please consider bringing s
 ome with you to donate!\n\nImpact\nHelp to eliminate food insecurity in Mi
 lwaukee and dissolve barriers of division as the community comes together 
 at a common table. Your child will be immersed in an environment where the
 y will experience their capabilities to help others and also be mentored i
 n acts of dignity and grace by those very same people. Kinship Community F
 ood Center embodies its motto: In a community of generosity everyone gives
  and everyone receives!\nWhen &amp\; Where\nTuesday\, August 20 from 3:30-
 6 p.m.\nSt. Casimir’s Parish Hall\n924 E. Clarke St.\nThe hall is locate
 d on the basement level of the school building behind Our Lady of Divine P
 rovidence Parish/St. Casimir. Volunteer entrance doors are on the west sid
 e of the building in the alley between the church and the school. On Tuesd
 ay afternoons we ask that volunteers find street parking (on Clarke or Wei
 l) as the lot is reserved for shoppers.\n\nRegistration Information\nParti
 cipant Cap: 10 volunteers\n\nAge: 6 years and older\n\nAttire: Please dres
 s casually with closed-toe shoes and keep all your valuables at home. Wear
  your Kids Impact Community shirt if you have one.\n\nCost: Free. Kinship
  Community Food Center does accept non-perishable food donations if your f
 amily would like to bring something to donate.\n\nQuestions: Reach out to 
 Lizzy at lizzy@kicmke.org with any questions.\n\nCancellations: We count 
 on our registered volunteers to make these projects come to life. However\
 , we understand illness and emergencies do come up so if you can no longer
  participate\, please email lizzy@kicmke.org ASAP so we can fill your spot
 .\nOur Partner\nLearn more about the Kinship Community Food Center on thei
 r website: www.kinshipmke.org
ATTACH;FMTTYPE=image/jpeg:https://kicmke.org/wp-content/uploads/2022/06/Se
 rving-Pantry-Guests-3.png
CATEGORIES:Meals
END:VEVENT
BEGIN:VTIMEZONE
TZID:America/Chicago
X-LIC-LOCATION:America/Chicago
BEGIN:DAYLIGHT
DTSTART:20240310T030000
TZOFFSETFROM:-0600
TZOFFSETTO:-0500
TZNAME:CDT
END:DAYLIGHT
END:VTIMEZONE
END:VCALENDAR