BEGIN:VCALENDAR
VERSION:2.0
PRODID:-//wp-events-plugin.com//7.2.3.1//EN
TZID:America/Chicago
X-WR-TIMEZONE:America/Chicago
BEGIN:VEVENT
UID:362@kicmke.org
DTSTART;TZID=America/Chicago:20240702T110000
DTEND;TZID=America/Chicago:20240702T133000
DTSTAMP:20240602T211525Z
URL:https://kicmke.org/events/serve-lunch-smile-seniors-at-blue-lotus-natu
 re-center-june2024/
SUMMARY:Serve Lunch with a Smile to Seniors at Blue Lotus Nature Center
DESCRIPTION:REGISTER HERE\nServe lunch with a smile to seniors on a day tri
 p to the peaceful Blue Lotus Nature Center in West Bend - an excursion coo
 rdinated by Community Projects for Seniors.\nCommunity Projects for Senior
 s is focused on brightening the everyday lives of low-income senior citize
 ns residing in subsidized apartment buildings. Their programs are designed
  to fight loneliness\, reduce social isolation\, create human connections\
 , and build community.\nEach summer\, they invite the seniors they serve o
 n a nature trip to the fully accessible Blue Lotus Center. The seniors hav
 e the opportunity to enjoy fishing\, live music\, swimming\, canoeing\, hi
 king\, and relaxation away from the city. They are also served a complimen
 tary lunch. That's where your family comes in!\n\nActivities\nYour family 
 will have the opportunity to serve lunch with a smile to the seniors at th
 e center. Community Projects for Seniors staff will meet you and provide d
 irections for how the lunch service operates. Please encourage your childr
 en to engage and chat with the seniors as they serve. Kids bring such joy 
 to older adults!\nAdditionally\, you will have the opportunity to play bin
 go\, go fishing\, or simply take a brief hike with some of the seniors. Fo
 llowing lunch\, you may also be invited to serve lemonade\, snacks\, or wa
 ter.\n\nImpact\nYour kids will create human connections\, help fight lonel
 iness\, and build community by brightening the lives of older adults who a
 re in need of some extra love.\n\nWhen &amp\; Where\nTuesday\, July 2 from
  11 a.m.-1:30 p.m.\nBlue Lotus Center\n5501 County Road M\nWest\, Bend\, W
 I 53095\n\nRegistration Information\nParticipant Cap: Two adults and four 
 kids\nAge: All ages (feel free to wear a baby while you serve lunch!)\nCos
 t: Free\nMaterials: none\nQuestions: Email erinlemoine@kicmke.org with any
  specific questions.\nCancellations: We count on our registered volunteers
  to make these projects come to life. However\, we understand illness and 
 emergencies do come up so if you can no longer participate\, please email 
 erinlemoine@kicmke.org ASAP so we can fill your spot.\n\nOur Partner\nComm
 unity Projects for Seniors strives to brighten the everyday lives of low-i
 ncome senior citizens residing in subsidized apartment buildings through p
 rograms that fight loneliness\, reduce social isolation\, create human con
 nections\, and build community.\nPrograms include delivering free hot meal
 s on holidays\, delivering care packages\, and hosting social events and n
 ature trips. Learn more on their website.
ATTACH;FMTTYPE=image/jpeg:https://kicmke.org/wp-content/uploads/2024/06/Se
 rve-Lunch-with-a-Smile-to-Seniors-at-Blue-Lotus-Nature-Center.png
CATEGORIES:Children and Families,Seniors
END:VEVENT
BEGIN:VTIMEZONE
TZID:America/Chicago
X-LIC-LOCATION:America/Chicago
BEGIN:DAYLIGHT
DTSTART:20240310T030000
TZOFFSETFROM:-0600
TZOFFSETTO:-0500
TZNAME:CDT
END:DAYLIGHT
END:VTIMEZONE
END:VCALENDAR