BEGIN:VCALENDAR
VERSION:2.0
PRODID:-//wp-events-plugin.com//7.2.3.1//EN
TZID:America/Chicago
X-WR-TIMEZONE:America/Chicago
BEGIN:VEVENT
UID:263@kicmke.org
DTSTART;TZID=America/Chicago:20230921T161500
DTEND;TZID=America/Chicago:20230921T181500
DTSTAMP:20230901T011056Z
URL:https://kicmke.org/events/september-monthly-meal-program/
SUMMARY:September Monthly Meal Program
DESCRIPTION:REGISTER HERE\nJoin us for our Monthly Taco Night at St. Vincen
 t De Paul (SVDP)! Thanks to the 2023 sponsorship of Bradley &amp\; Co Real
  Estate\, KIC families will pack up and distribute 150 taco dinners for 
 adult and child guests of SVDP - Harambee at All Peoples Church. The SVDP 
 meal program provides meals throughout the year. Dinners are provided by v
 arious charitable organizations five nights a week. \nActivities\nPartici
 pants will prepare the dining room and serve food to individuals living wi
 th food insecurity. Specific activities include the following:\n\n 	Stuff 
 utensils and napkin bags\n 	Set out taco ingredients\, condiments\, rice\,
  beans\, fruit\, and cookies.\n 	Prepare to-go containers with a full meal
 \n 	Hand out the meals to dinner guests\n 	Basic clean-up post-meal servic
 e (sweeping\, wiping tables\, etc.)\n\nPurpose\n Children will serve and 
 act with compassion toward others\nImpact\nChildren and their caregivers w
 ill serve a healthy meal for guests of the St. Vincent De Paul Meal Progra
 m. \nWhen &amp\; Where\nThursday\, Sept. 21 from 4:15-6:15 p.m.\n\n\nAll P
 eoples Church\n2600 N. 2nd St.\, Milwaukee\, WI 53212\nRegistration Inform
 ation\nParticipant Cap: 18 participants\n\nAge: Age 5 and up\n\nCost: Fre
 e. Please consider a donation to KIC to help cover the cost of the food.\
 n\nMaterials: Hairnets\, gloves\, and aprons are required and provided at
  the event. If your family would like to bring their own aprons and baseba
 ll caps\, you are welcome to do that. Face coverings are optional at this 
 time.\n\nQuestions: Contact savannah@kicmke.org or info@kicmke.org with a
 ny questions.\n\nCancellations: Please email savannah@kicmke.org or info@
 kicmke.org if you are unable to make it so we can invite another family to
  share in the experience.\nMore Information\nTo learn more about the St. V
 incent De Paul Meal Program\, visit https://svdpmilw.org/meal-program.aspx
 . To learn more about All Peoples Church\, visit http://allpeoplesgatherin
 g.org/.\nThank you to  Bradley &amp\; Company\, Compass Real Estate for 
 their generous sponsorship of our 2023 St. Vincent de Paul Meal Program!
 \n\n&nbsp\;
ATTACH;FMTTYPE=image/jpeg:https://kicmke.org/wp-content/uploads/2023/06/Mo
 nthly-Meal-Program_Sponsor.png
CATEGORIES:Children and Families,Seniors
END:VEVENT
BEGIN:VTIMEZONE
TZID:America/Chicago
X-LIC-LOCATION:America/Chicago
BEGIN:DAYLIGHT
DTSTART:20230312T030000
TZOFFSETFROM:-0600
TZOFFSETTO:-0500
TZNAME:CDT
END:DAYLIGHT
END:VTIMEZONE
END:VCALENDAR