BEGIN:VCALENDAR
VERSION:2.0
PRODID:-//wp-events-plugin.com//7.2.3.1//EN
TZID:America/Chicago
X-WR-TIMEZONE:America/Chicago
BEGIN:VEVENT
UID:361@kicmke.org
DTSTART;TZID=America/Chicago;VALUE=DATE:20240601
DTEND;TZID=America/Chicago;VALUE=DATE:20240808
DTSTAMP:20240604T014750Z
URL:https://kicmke.org/events/school-supply-drive-summer2024/
SUMMARY:School Supply Drive
DESCRIPTION:REGISTER HERE\nHelp our community’s kids start the upcoming s
 chool year off strong with a fresh set of new school supplies. Our Next Ge
 neration supports thousands of students in the heart of one of Milwaukee
 ’s most challenged communities through academic tutoring\, enrichment pr
 ograms\, and social support with tangible results: better grades\, higher 
 high-school graduation rates\, improved self-esteem\, and positive attitud
 es toward the future.\nActivities\nChildren and caregivers will shop for s
 chool supplies together. Add it to your own family’s back-to-school shop
 ping list! Shop from the list of school supplies provided in your registra
 tion confirmation email.\n\nImpact\nChildren who attend Our Next Generatio
 n will feel the excitement and readiness to learn what having new school s
 upplies brings.\nChildren from KIC will learn how they have the capability
  of spreading love through supporting kids their age.\n\nWhen &amp\; Where
 \nDrop off school supplies between July 25 and August 5 at one of the loca
 tions listed:\n\n\n 	\n\n 	- 4464 N. Maryland Ave\, Shorewood\n 	- 210 N. 
 75th St\, Wauwatosa \n 	- 435 Lilac Ct\, Grafton\n 	- 412 N. Hine\, Waukes
 ha\n 	- 21673 S. Weather Edge Circle\, Lannon\n 	- 5955 N. Berkeley Blvd.\
 , Whitefish Bay \n 	- 3141 S. New York Avenue\, Bay View\n\n\n\nOur Next G
 eneration is also hosting its annual carnival on Aug. 7 at 1 p.m. Families
  can drop off the school supplies in person at the event and join the fest
 ivities for some summer fun. Note: Carnival participation is limited to th
 e first 8 families that register for in-person drop-off.\nRegistration Inf
 ormation\nAge: All ages.\n\nParticipant Cap: There is no limit to how much
  supplies you collect!\n\nCost: The determination of cost is up to you and
  what you are able to purchase.\n\nMaterials: Please shop from the list of
  school supplies provided in your registration confirmation email.\n\nQues
 tions: Email lizzy@kicmke.org with any specific questions.\nOur Partner\n
 For more information about Our Next Generation\, please visit their websit
 e.
ATTACH;FMTTYPE=image/jpeg:https://kicmke.org/wp-content/uploads/2024/06/Sc
 hool-Supply-Drive-Our-Next-Generation-3.png
CATEGORIES:On Your Own
END:VEVENT
BEGIN:VTIMEZONE
TZID:America/Chicago
X-LIC-LOCATION:America/Chicago
BEGIN:DAYLIGHT
DTSTART:20240310T030000
TZOFFSETFROM:-0600
TZOFFSETTO:-0500
TZNAME:CDT
END:DAYLIGHT
END:VTIMEZONE
END:VCALENDAR