BEGIN:VCALENDAR
VERSION:2.0
PRODID:-//wp-events-plugin.com//7.2.3.1//EN
TZID:America/Chicago
X-WR-TIMEZONE:America/Chicago
BEGIN:VEVENT
UID:253@kicmke.org
DTSTART;TZID=America/Chicago:20230701T100000
DTEND;TZID=America/Chicago:20230804T100000
DTSTAMP:20230706T011348Z
URL:https://kicmke.org/events/school-supply-drive-our-next-generation-summ
 er23/
SUMMARY:School Supply Drive for Our Next Generation
DESCRIPTION:REGISTER HERE\nHelp our community’s kids start the upcoming s
 chool year off strong with a fresh set of school supplies. Our Next Genera
 tion supports thousands of students in the heart of one of Milwaukee’s m
 ost challenged communities through academic tutoring\, enrichment programs
 \, and social support. Through these services\, they see tangible results 
 like better grades\, higher high-school graduation rates\, improved self-e
 steem\, and positive attitudes toward the future.\nActivities\nChildren an
 d caregivers will shop for school supplies together. Tag it onto your own 
 family’s back-to-school shopping list. Shop from the list of school supp
 lies provided in a confirmation email sent within a few days after you reg
 ister.\nPurpose\nTo support our Milwaukee community through the act of giv
 ing and deepening our relationship with Our Next Generation.\n\nImpact\nCh
 ildren who attend Our Next Generation will feel the excitement that having
  new school supplies brings. Children from KIC will learn how they have th
 e capability of spreading love through supporting kids their own age.\n\nW
 hen &amp\; Where\nSchool supplies will be delivered to Our Next Generation
  on Aug. 4. You can drop off your school supplies in person at Our Next Ge
 neration on Friday\, Aug. 4 at 10 a.m. (3421 W Lisbon Ave\, Milwaukee\, W
 I 53208). Or drop off your school supplies between July 19-Aug. 2 at one 
 of the locations below:\n\n\n 	4464 N. Maryland Ave\, Shorewood\n 	9233 Ha
 rding Blvd\, Wauwatosa \n 	5523 N. Navajo\, Glendale\n 	1055 Pitzka Rd\, 
 Brookfield\n 	21673 S. Weather Edge Circle\, Lannon\n 	5955 N. Berkeley Bl
 vd.\, Whitefish Bay\n 	3141 S. New York Avenue\, Bay View\n 	\nAmerican Fa
 mily Insurance: 4484 N. Oakland Ave\, Shorewood (Drop between 8:30 a.m.-5
  p.m. Monday through Friday)\n 	\nBradley and Company: 8909 N. Port Washi
 ngton Rd\, Bayside (Drop off between 9 a.m.-5 p.m. Monday through Friday)
 \n\nRegistration Information\nAges: All ages welcome!\nMaterials: Please s
 hop from the list of school supplies provided in your registration confirm
 ation email.\nCost: The determination of cost is up to you and what you a
 re able to purchase!\nQuestions: If you have any questions\, you can conta
 ct Lizzy Howayeck at lizzy@kicmke.org or Kitty Janas at kitty@kicmke.org\
 nCancellations: If you are unable to get your donations to one of the drop
 -off locations\, please contact Lizzy at lizzy@kicmke.org.\n\nMore Informa
 tion\nFor more information about Our Next Generation\, please visit their 
 website at https://ongkids.org.
ATTACH;FMTTYPE=image/jpeg:https://kicmke.org/wp-content/uploads/2023/06/Sc
 hool-Supply-Drive-Our-Next-Generation.png
CATEGORIES:On Your Own
END:VEVENT
BEGIN:VTIMEZONE
TZID:America/Chicago
X-LIC-LOCATION:America/Chicago
BEGIN:DAYLIGHT
DTSTART:20230312T030000
TZOFFSETFROM:-0600
TZOFFSETTO:-0500
TZNAME:CDT
END:DAYLIGHT
END:VTIMEZONE
END:VCALENDAR