BEGIN:VCALENDAR
VERSION:2.0
PRODID:-//wp-events-plugin.com//7.2.3.1//EN
TZID:America/Chicago
X-WR-TIMEZONE:America/Chicago
BEGIN:VEVENT
UID:381@kicmke.org
DTSTART;TZID=America/Chicago:20241108T170000
DTEND;TZID=America/Chicago:20241108T190000
DTSTAMP:20240730T035123Z
URL:https://kicmke.org/events/save-the-date-kics-10th-birthday-celebration
 /
SUMMARY:SAVE THE DATE: KIC’s 10th Birthday Celebration!
DESCRIPTION:Use the ADD TO CALENDAR button to save the date! Learn more abo
 ut the event at kicmke.org/birthday.
ATTACH;FMTTYPE=image/jpeg:https://kicmke.org/wp-content/uploads/2024/07/im
 age0-2.png
END:VEVENT
BEGIN:VTIMEZONE
TZID:America/Chicago
X-LIC-LOCATION:America/Chicago
BEGIN:STANDARD
DTSTART:20241103T010000
TZOFFSETFROM:-0500
TZOFFSETTO:-0600
TZNAME:CST
END:STANDARD
END:VTIMEZONE
END:VCALENDAR