BEGIN:VCALENDAR
VERSION:2.0
PRODID:-//wp-events-plugin.com//7.2.3.1//EN
TZID:America/Chicago
X-WR-TIMEZONE:America/Chicago
BEGIN:VEVENT
UID:498@kicmke.org
DTSTART;TZID=America/Chicago:20250524T080000
DTEND;TZID=America/Chicago:20250524T101500
DTSTAMP:20250428T025846Z
URL:https://kicmke.org/events/prepare-serve-breakfast-waukesha-may-2025/
SUMMARY:Prepare and Serve Breakfast at Waukesha's Hope Center
DESCRIPTION:REGISTER HERE\nJoin us in preparing and serving breakfast to pe
 ople in need at Hope Center in downtown Waukesha.\nActivities\nOur volunte
 er group of children and caregivers will prepare and serve breakfast to ab
 out 60 guests at Waukesha's Hope Center. Kids Impact Community will be bri
 nging food to prepare on-site. You can sign up to bring some ingredients n
 eeded. There is a kitchen at the center where we will prep the meal servic
 e. Following the meal\, we will clean up\, ending around 10 a.m.\nImpact\n
 Kids and their caregivers will work together to brighten the mornings of p
 eople in need. Kids will see that serving others can be fun and that they 
 are capable of making a difference.\nWhen &amp\; Where\nSaturday\, May 24 
 from 8-10:15 a.m. (meal service begins at 9 a.m.)\nHope Center - 101 W. Br
 oadway\, Waukesha\, WI\, 53186\n\nThere is a free parking lot at Hope Cent
 er.\nRegistration Information\nParticipants: 8-10 volunteers\nAges: Recomm
 endated for ages 5 and up\, but all ages are welcome!\nCost: Free. If you 
 can contribute an ingredient to our meal\, details will be sent out in the
  confirmation email upon registration.\nMaterials: Gloves and hairnets wil
 l be provided when we arrive.\nQuestions: Email joanna@kicmke.org with any
  questions. A confirmation email with more details will be sent out a few 
 days after you register.\nCancellations: We count on our registered volunt
 eers to make these projects come to life. However\, we understand illness 
 and emergencies do come up\, so if you can no longer participate\, please 
 email joanna@kicmke.org. ASAP so we can fill your spot.\n\nOur Partner\n\n
 \nThe Hope Center is a non-profit organization that has been assisting Wau
 kesha County residents with basic needs for more than thirty years. Hope C
 enter guests include those living with housing insecurity\, families tryin
 g to stretch their budget\, and older adults living on a fixed income.\n\n
 \n
ATTACH;FMTTYPE=image/jpeg:https://kicmke.org/wp-content/uploads/2025/04/Pr
 epare-and-Serve-Breakfast-at-Waukeshas-Hope-Center.png
CATEGORIES:Meals
END:VEVENT
BEGIN:VTIMEZONE
TZID:America/Chicago
X-LIC-LOCATION:America/Chicago
BEGIN:DAYLIGHT
DTSTART:20250309T030000
TZOFFSETFROM:-0600
TZOFFSETTO:-0500
TZNAME:CDT
END:DAYLIGHT
END:VTIMEZONE
END:VCALENDAR