BEGIN:VCALENDAR
VERSION:2.0
PRODID:-//wp-events-plugin.com//7.2.3.1//EN
TZID:America/Chicago
X-WR-TIMEZONE:America/Chicago
BEGIN:VEVENT
UID:388@kicmke.org
DTSTART;TZID=America/Chicago:20240901T050000
DTEND;TZID=America/Chicago:20241231T120000
DTSTAMP:20240901T194319Z
URL:https://kicmke.org/events/panera-end-of-day-dough-nation-program/
SUMMARY:Panera End of Day Dough-nation Program
DESCRIPTION:REGISTER HERE\nAre you looking for an independent family projec
 t to engage your family each month? We have a perfect opportunity for you.
  KIC is partnering with Panera-Glendale in their End of Day Dough-nation 
 Program. KIC families will reclaim surplus baked goods from Panera to dist
 ribute to community members living with food insecurity.\nActivities\nWe a
 re seeking volunteers to pick up (any time before 10 a.m.) and deliver bak
 ed goods one Sunday or Monday morning per month from Panera-Glendale and d
 eliver them to one of two locations:\n1. The Gathering’s executive direc
 tor’s home in the Sherman Park neighborhood (Sundays)\n2. Stormonth Sc
 hool in Fox Point\, WI for LX Club (Mondays)\nWe will send an email detail
 ing the pick-up and drop-off procedures to interested families. We ask for
  a three-month commitment to this project (September\, October\, November\
 , December).\nImpact\nChildren will serve with their families to re-purpos
 e unsold bakery items to provide sustenance to friends living with food i
 nsecurity.\n\nWhen &amp\; Where\nPanera-Glendale\n\n5595 N Port Washington
  Rd\, Glendale\, WI 53217\n\nPick up baked goods anytime before 10 a.m.\n\
 nDrop-Off Locations: Families will deliver the baked goods to The Gatheri
 ng’s executive director’s home in the Sherman Park neighborhood (Sun
 days) or to Stormonth warming house for senior Bingo (Mondays). We will s
 end an email detailing the pick-up and drop-off procedures to interested
  families.\nRegistration Information\nParticipant Cap: 10 families\nAges: 
 All ages welcome!\nCost: Free\nQuestions: If you have any questions\, ple
 ase contact Annie Turim at annie@kicmke.org.\nCancelations: If you are una
 ble to pick up on your day for any reason\, you can send a “substitute f
 amily.” KIC also has an available “substitute” if needed. We will s
 hare that information in an email to participating families.
ATTACH;FMTTYPE=image/jpeg:https://kicmke.org/wp-content/uploads/2022/08/Pa
 nera-End-of-Day-Dough-nation-Delivery.png
CATEGORIES:Meals
END:VEVENT
BEGIN:VTIMEZONE
TZID:America/Chicago
X-LIC-LOCATION:America/Chicago
BEGIN:DAYLIGHT
DTSTART:20240310T030000
TZOFFSETFROM:-0600
TZOFFSETTO:-0500
TZNAME:CDT
END:DAYLIGHT
BEGIN:STANDARD
DTSTART:20241103T010000
TZOFFSETFROM:-0500
TZOFFSETTO:-0600
TZNAME:CST
END:STANDARD
END:VTIMEZONE
END:VCALENDAR