BEGIN:VCALENDAR
VERSION:2.0
PRODID:-//wp-events-plugin.com//7.2.3.1//EN
TZID:America/Chicago
X-WR-TIMEZONE:America/Chicago
BEGIN:VEVENT
UID:239@kicmke.org
DTSTART;TZID=America/Chicago:20230604T050000
DTEND;TZID=America/Chicago:20230828T120000
DTSTAMP:20230531T042950Z
URL:https://kicmke.org/events/panera-end-day-dough-nation-program/
SUMMARY:Panera End of Day Dough-nation Program
DESCRIPTION:REGISTER HERE\nAre you looking for an independent family projec
 t to engage your family each month? We have a perfect opportunity for you.
  KIC is partnering with Panera-Glendale in their End of Day Dough-nation 
 Program. KIC families will reclaim surplus baked goods from Panera to dist
 ribute to community members living with food insecurity.\nActivities\nWe a
 re seeking volunteers to pick up and deliver baked goods one Sunday or Mon
 day morning per month (e.g. 1st Monday of the month\, 3rd Sunday of the mo
 nth) from Panera-Glendale and deliver them to one of two locations:\n1. Th
 e Gathering’s executive director’s home in the Sherman Park neighborh
 ood (Sundays)\n2. Stormonth warming house for senior Bingo (Mondays)\nWe 
 will send an email detailing the pick-up and drop-off procedures to intere
 sted families. We ask for a three-month commitment to this project (June\,
  July\, August)\nImpact\nChildren will serve with their families to re-pur
 pose unsold bakery items to provide sustenance to friends living with foo
 d insecurity.\n\nWhen &amp\; Where\nPanera-Glendale\n\n5595 N Port Washing
 ton Rd\, Glendale\, WI 53217\n\nAnytime before 10 a.m.\n\nDrop-Off Locatio
 ns: Families will deliver the baked goods to The Gathering’s executive 
 director’s home in the Sherman Park neighborhood (Sundays) or to Stor
 month warming house for senior Bingo (Mondays). We will send an email det
 ailing the pick-up and drop-off procedures to interested families.\nRegis
 tration Information\nParticipant Cap: 10 families\nAges: All ages welcome!
 \nCost: Free\nQuestions: If you have any questions\, please contact Annie
  Turim at annie@kicmke.org.\nCancelations: If you are unable to pick up on
  your day for any reason\, you can send a “substitute family.” KIC als
 o has an available “substitute” if needed. We will share that informa
 tion in an email to participating families.
ATTACH;FMTTYPE=image/jpeg:https://kicmke.org/wp-content/uploads/2022/08/Pa
 nera-End-of-Day-Dough-nation-Delivery.png
CATEGORIES:Meals
END:VEVENT
BEGIN:VTIMEZONE
TZID:America/Chicago
X-LIC-LOCATION:America/Chicago
BEGIN:DAYLIGHT
DTSTART:20230312T030000
TZOFFSETFROM:-0600
TZOFFSETTO:-0500
TZNAME:CDT
END:DAYLIGHT
END:VTIMEZONE
END:VCALENDAR