BEGIN:VCALENDAR
VERSION:2.0
PRODID:-//wp-events-plugin.com//7.2.3.1//EN
TZID:America/Chicago
X-WR-TIMEZONE:America/Chicago
BEGIN:VEVENT
UID:262@kicmke.org
DTSTART;TZID=America/Chicago:20230916T100000
DTEND;TZID=America/Chicago:20230916T121000
DTSTAMP:20230831T134209Z
URL:https://kicmke.org/events/packing-diapers-for-milwaukee-diaper-mission
 -sept16/
SUMMARY:Packing Diapers for Milwaukee Diaper Mission
DESCRIPTION:REGISTER HERE\nOne in three U.S. families lack enough diapers t
 o keep a baby clean\, dry\, and healthy. Milwaukee Diaper Mission (MDM) b
 elieves diapers are a necessity\, not a luxury. In partnership with local 
 social service agencies\, MDM empowers families in need by providing a rel
 iable source of free diapers and period supplies.\n\nWe appreciate the ser
 vice that MDM is providing our communities and we want to help!\nActivitie
 s\nMDM has thousands of diapers that have been donated by community member
 s and partner organizations. KIC families will sign up for one-hour time s
 lots (time slots will be assigned based on availability). During that time
 \, they will count and package diapers to be distributed throughout the Mi
 lwaukee community. These diapers need to be wrapped into packages of 25 fo
 r easier monthly distribution.  Families will count out diapers and packa
 ge them with shrink wrap. The kids can also decorate and attach stickers t
 o give some extra joy and positivity to the receiving parents.\nPurpose\nK
 ids will use their service skills to help provide diapers for families who
  are struggling to afford diapers to keep their babies clean\, dry\, and h
 ealthy.\nImpact\nKids will see that serving others can be fun and that the
 y are capable of making a difference.\nWhen &amp\; Where\nSaturday\, Sept.
  16\n\n\n 	\n\n 	Time slot #1: 10-11 a.m.\n 	Time slot #2: 11:10-12:10 p.m
 .\n\n\n\nMilwaukee Diaper Mission\n9600 S. Franklin Dr.\nFranklin\, WI 531
 32\n\n 	\n\n 	The warehouse is the last one on the east end of the buildi
 ng. This larger warehouse will allow three families to safely work in the 
 space at the same time.\n 	The area will be sanitized between each session
 . MDM leaders will be present to guide you through the process.\n 	There i
 s a designated play area for younger children to enjoy while parents and o
 lder children participate in the service project.\n 	Parking is available 
 in the lot in front of the building.\n\n\n\nRegistration Information\nPart
 icipant Cap: Six families total (three per session)\n\nAge: All ages are
  welcome! We just ask that parents help with counting and/or packaging if 
 needed.\n\nCost: Free. However\, if your child would like a leadership ext
 ension prior to the event\, they could ask their neighbors and/or relative
 s to donate diapers and bring them to the Diaper Mission.\n\nMaterials: Al
 l volunteers ages three and over will need to wear a mask at all times wit
 hin the building. Hand sanitizer will be provided.\n\nCancellations: Pleas
 e contact Kitty Janas at kitty@kicmke.org in the event of a cancellation 
 so we can add waitlisted families to the event.\n\nQuestions:  Please con
 tact Kitty Janas at kitty@kicmke.org with any questions. We will send you
  an email to confirm registration and touch base before the event.\nFor mo
 re information on the Milwaukee Diaper Mission\, visit their website at mi
 lwaukeediapermission.org.
ATTACH;FMTTYPE=image/jpeg:https://kicmke.org/wp-content/uploads/2023/05/Mi
 lwaukee-Diaper-Mission.png
CATEGORIES:Children and Families
END:VEVENT
BEGIN:VTIMEZONE
TZID:America/Chicago
X-LIC-LOCATION:America/Chicago
BEGIN:DAYLIGHT
DTSTART:20230312T030000
TZOFFSETFROM:-0600
TZOFFSETTO:-0500
TZNAME:CDT
END:DAYLIGHT
END:VTIMEZONE
END:VCALENDAR