BEGIN:VCALENDAR
VERSION:2.0
PRODID:-//wp-events-plugin.com//7.2.3.1//EN
TZID:America/Chicago
X-WR-TIMEZONE:America/Chicago
BEGIN:VEVENT
UID:603@kicmke.org
DTSTART;TZID=America/Chicago:20260117T100000
DTEND;TZID=America/Chicago:20260117T121000
DTSTAMP:20251229T040540Z
URL:https://kicmke.org/events/packing-diapers-for-milwaukee-diaper-mission
 -jan-2026/
SUMMARY:[MLK] Packing Diapers for Milwaukee Diaper Mission
DESCRIPTION:REGISTER HERE\nOne in three U.S. families lack enough diapers t
 o keep a baby clean\, dry\, and healthy. Milwaukee Diaper Mission (MDM) b
 elieves diapers are a necessity\, not a luxury. In partnership with local 
 social service agencies\, MDM empowers families in need by providing a rel
 iable source of free diapers and period supplies.\n\nWe appreciate the ser
 vice that MDM is providing our communities and we want to help!\nActivitie
 s\nMDM has thousands of diapers that have been donated by community member
 s and partner organizations. KIC families will sign up for one-hour time s
 lots (time slots will be assigned based on availability). During that time
 \, they will count and package diapers to be distributed throughout the Mi
 lwaukee community. These diapers need to be wrapped into packages of 25 fo
 r easier monthly distribution. Families will count out diapers and package
  them with shrink wrap. The kids can also decorate and attach stickers to 
 give some extra joy and positivity to the receiving parents.\nImpact\nKids
  will see that serving others can be fun and that they are capable of maki
 ng a difference.\nWhen &amp\; Where\nSaturday\, January 17\n\n\n 	\n\n 	Ti
 me slot #1: 10-11 a.m.\n 	Time slot #2: 11:10 a.m.-12:10 p.m.\n\n\n\n4900 
 S Pennsylvania Ave Cudahy\, WI 53110\n\n 	- This large warehouse will allo
 w four families to safely work in the space at the same time. \n 	- The ar
 ea will be sanitized between each session. MDM leaders will be present to 
 guide you through the process. \n 	- There is a designated play area for 
 younger children to enjoy while parents and older children participate in 
 the service project.\n\nRegistration Information\nParticipant Cap: Eight f
 amilies total (four per session)\n\nAge: All ages are welcome! We just as
 k that parents help with counting and/or packaging if needed.\n\nCost: Fre
 e. However\, if your child would like a leadership extension prior to the 
 event\, they could ask their neighbors and/or relatives to donate diapers 
 and bring them to the Diaper Mission.\n\nMaterials: All materials will be 
 provided\, including hand sanitizer.\n\nCancellations: Please contact Kitt
 y Janas at kitty@kicmke.org in the event of a cancellation so we can add 
 waitlisted families to the event.\n\nQuestions: Please contact Kitty Janas
  at kitty@kicmke.org with any questions. We will send you an email to con
 firm registration and touch base before the event.\nOur Partner\nLearn mor
 e about the Milwaukee Diaper Mission\, visit their website at milwaukeedia
 permission.org.\nMLK National Day of Service Series\nCelebrate the legacy 
 of Dr. Martin Luther King\, Jr. as we help our children build a world wher
 e all people are treated with kindness and respect. Browse the events a pa
 rt of our MLK service series.
ATTACH;FMTTYPE=image/jpeg:https://kicmke.org/wp-content/uploads/2025/11/Di
 aper-Mission.png
CATEGORIES:Children and Families
END:VEVENT
BEGIN:VTIMEZONE
TZID:America/Chicago
X-LIC-LOCATION:America/Chicago
BEGIN:STANDARD
DTSTART:20251102T010000
TZOFFSETFROM:-0500
TZOFFSETTO:-0600
TZNAME:CST
END:STANDARD
END:VTIMEZONE
END:VCALENDAR