BEGIN:VCALENDAR
VERSION:2.0
PRODID:-//wp-events-plugin.com//7.2.3.1//EN
TZID:America/Chicago
X-WR-TIMEZONE:America/Chicago
BEGIN:VEVENT
UID:604@kicmke.org
DTSTART;TZID=America/Chicago:20260124T083000
DTEND;TZID=America/Chicago:20260124T103000
DTSTAMP:20251211T191455Z
URL:https://kicmke.org/events/pack-rescued-food-jan-2026/
SUMMARY:[MLK] Pack Rescued Food with Just One More Ministry
DESCRIPTION:REGISTER HERE\nIn Wisconsin\, 1 in 10 households are struggling
  with hunger\, impacting people of all ages. Food pantries across Wisconsi
 n are still reporting increased demand alongside lower-stocked shelves. Th
 is is a problem as pandemic-related benefits end and food prices continue 
 to increase due to inflation.\nJust One More Ministry\, located in Glendal
 e\, is an organization that rescues excess food from area restaurants\, fo
 od suppliers\, and caterers\, and redistributes it to over 75 shelters\, f
 ood pantries\, and community members in need. KIC families regularly pack 
 lunches at home for Just One More Ministry\, and this is a great opportuni
 ty to invite your kids into the building to see another aspect of their wo
 rk.\n\nActivities\nThe pantry is set up like a mini supermarket. You and y
 our children will work to assemble outreach bags\, grabbing the necessary 
 items from the pantry and large walk-in refrigerators.\nImpact\nFor childr
 en to grow in awareness of their capability to help others when their comm
 unity needs it most.\n\nWhen &amp\; Where\nSaturday\, Jan. 24 from 8:30-10
 :30 a.m.\nJust One More Ministry Warehouse\n4180 N Lydell St\, Glendale 53
 212\nPark in their parking lot.\n\nRegistration Information\nParticipant C
 ap: 15 volunteers\nAge: All ages\nCost: Free\nMaterials: Dress in layers. 
 The warehouse can be chilly in the winter and you may want to keep your co
 at on.\nQuestions: Email kathy@kicmke.org with any specific questions.\nCa
 ncellations: We count on our registered volunteers to make these projects 
 come to life. However\, we understand illness and emergencies do come up s
 o if you can no longer participate\, please email kathy@kicmke.org ASAP so
  we can fill your spot.\n\nOur Partner\nLearn more about the Just One More
  Ministry on their website and Spectrum News 1.\nMLK National Day of Servi
 ce Series\nCelebrate the legacy of Dr. Martin Luther King\, Jr. as we help
  our children build a world where all people are treated with kindness and
  respect. Browse the events a part of our MLK service series.
ATTACH;FMTTYPE=image/jpeg:https://kicmke.org/wp-content/uploads/2025/11/Pa
 ck-Rescued-Food.png
CATEGORIES:Children and Families
END:VEVENT
BEGIN:VTIMEZONE
TZID:America/Chicago
X-LIC-LOCATION:America/Chicago
BEGIN:STANDARD
DTSTART:20251102T010000
TZOFFSETFROM:-0500
TZOFFSETTO:-0600
TZNAME:CST
END:STANDARD
END:VTIMEZONE
END:VCALENDAR