BEGIN:VCALENDAR
VERSION:2.0
PRODID:-//wp-events-plugin.com//7.2.3.1//EN
TZID:America/Chicago
X-WR-TIMEZONE:America/Chicago
BEGIN:VEVENT
UID:411@kicmke.org
DTSTART;TZID=America/Chicago:20241214T083000
DTEND;TZID=America/Chicago:20241214T103000
DTSTAMP:20241103T193115Z
URL:https://kicmke.org/events/pack-rescued-food-dec-2024/
SUMMARY:Pack Rescued Food
DESCRIPTION:REGISTER HERE\nIn Wisconsin\, 1 in 10 households are struggling
  with hunger\, impacting people of all ages. Following the pandemic\, food
  pantries across Wisconsin are still reporting increased demand alongside 
 lower-stocked shelves. This is a problem as pandemic-related benefits end 
 and food prices continue to increase due to inflation.\nJust One More Mini
 stry\, located in Glendale\, is an organization that rescues excess food f
 rom area restaurants\, food suppliers\, and caterers\, and redistributes i
 t to over 90 shelters\, food pantries\, and community members in need. We 
 have been packing lunches monthly for Just One More Ministry for the past 
 three years. We can’t wait to invite your kids into their building to he
 lp prepare outreach bags and see another aspect of their work.\n\nActiviti
 es\nThe pantry is set up like a mini supermarket. You and your children wi
 ll work to assemble outreach bags\, grabbing the necessary items from the 
 pantry and large walk-in refrigerators.\nImpact\nFor children to grow in a
 wareness of their capability to help others when their community needs it 
 most.\n\nWhen &amp\; Where\nSaturday\, December 14\n8:30-10:30 a.m.\nJust 
 One More Ministry Warehouse\n4180 N Lydell St\, Glendale 53212\nPark in th
 eir parking lot.\n\nRegistration Information\nParticipant Cap: 15 voluntee
 rs\nAge: All ages\nCost: Free\nMaterials: Dress in layers. The warehouse c
 an be chilly in the winter and you may want to keep your coat on.\nQuestio
 ns: Email kathy@kicmke.org with any specific questions.\nCancellations: We
  count on our registered volunteers to make these projects come to life. H
 owever\, we understand illness and emergencies do come up so if you can no
  longer participate\, please email kathy@kicmke.org ASAP so we can fill yo
 ur spot.\n\nOur Partner\nLearn more about the Just One More Ministry on th
 eir website and Spectrum News 1.
ATTACH;FMTTYPE=image/jpeg:https://kicmke.org/wp-content/uploads/2024/02/Pa
 ck-Rescued-Food.png
CATEGORIES:Children and Families
END:VEVENT
BEGIN:VTIMEZONE
TZID:America/Chicago
X-LIC-LOCATION:America/Chicago
BEGIN:STANDARD
DTSTART:20241103T010000
TZOFFSETFROM:-0500
TZOFFSETTO:-0600
TZNAME:CST
END:STANDARD
END:VTIMEZONE
END:VCALENDAR