BEGIN:VCALENDAR
VERSION:2.0
PRODID:-//wp-events-plugin.com//7.2.3.1//EN
TZID:America/Chicago
X-WR-TIMEZONE:America/Chicago
BEGIN:VEVENT
UID:229@kicmke.org
DTSTART;TZID=America/Chicago:20230518T161500
DTEND;TZID=America/Chicago:20230518T181500
DTSTAMP:20230505T214602Z
URL:https://kicmke.org/events/may-monthly-meal-program/
SUMMARY:May Monthly Meal Program
DESCRIPTION:Monthly Taco Night is back! KIC families will have the opportun
 ity to prepare and serve over 100 in-person hot and nutritious meals for a
 dult and children guests of St. Vincent De Paul (SVDP).\n\nWe will work t
 ogether to prepare the meals prior to guest arrival and serve the meals up
 on arrival of the guests in the basement of  All Peoples Church in the 
 Harambee neighborhood of Milwaukee. St. Vincent De Paul meal program pro
 vides meals throughout the year\, and dinners are provided by various ch
 aritable organizations five nights a week. KIC is thrilled to be back at S
 VDP – where we served monthly prior to March 2020.\nRegistration Informa
 tion\nCLICK HERE TO REGISTER\n\nParticipant Cap: 18 participants\n\nAges: 
 All Ages\n\nMaterials: Hairnets\, gloves\, and aprons are required and pro
 vided at the event. If your family would like to bring their own aprons an
 d baseball caps\, you are welcome to do that. Please wear a well-fitting f
 ace covering during your time at the site.\n\nCost: FREE. Please consider
  a donation to KIC to help cover the cost of the food. Donate here.\n\nCan
 cellations: Please email jenna@kicmke.org if you are unable to make it so 
 we can invite another family to share in the experience.\n\nQuestions: Con
 tact jenna@kicmke.org.\nActivities\nParticipants will prepare the dining 
 room and serve food for individuals living with food insecurity. Specific 
 activities will include the following:\n\n 	Stuff utensils and napkin bags
 \n 	Set out tacos ingredients\, condiments\, rice\, beans\, fruit\, and c
 ookies.\n 	Prepare to-go containers with a full meal\n 	Hand out the meals
  to dinner guests\n 	Basic clean up at meal site post-meal service (sweep
 ing\, wiping down tables\, etc.)\n\nPurpose\nChildren will serve and act 
 with compassion towards others.\nImpact\nChildren and their caregivers wi
 ll serve a healthy meal for guests of the St. Vincent De Paul Meal Progra
 m.\nWhen and Where\nThursday\, May 18 from 4:15-6:15 p.m.\n\nAll Peoples C
 hurch\n\n2600 N 2nd St\, Milwaukee\, WI 53212\n\n&nbsp\;\nFor more informa
 tion about the St. Vincent De Paul Meal Program\, visit their website her
 e.
ATTACH;FMTTYPE=image/jpeg:https://kicmke.org/wp-content/uploads/2023/05/Mo
 nthly-Meal-Program.png
CATEGORIES:Meals
LOCATION:All Peoples Church\, 2600 N 2nd St\, Milwaukee\, Wisconsin\, 53212
 \, United States
X-APPLE-STRUCTURED-LOCATION;VALUE=URI;X-ADDRESS=2600 N 2nd St\, Milwaukee\,
  Wisconsin\, 53212\, United States;X-APPLE-RADIUS=100;X-TITLE=All Peoples 
 Church:geo:0,0
END:VEVENT
BEGIN:VTIMEZONE
TZID:America/Chicago
X-LIC-LOCATION:America/Chicago
BEGIN:DAYLIGHT
DTSTART:20230312T030000
TZOFFSETFROM:-0600
TZOFFSETTO:-0500
TZNAME:CDT
END:DAYLIGHT
END:VTIMEZONE
END:VCALENDAR