BEGIN:VCALENDAR
VERSION:2.0
PRODID:-//wp-events-plugin.com//7.2.3.1//EN
TZID:America/Chicago
X-WR-TIMEZONE:America/Chicago
BEGIN:VEVENT
UID:622@kicmke.org
DTSTART;TZID=America/Chicago:20260116T100000
DTEND;TZID=America/Chicago:20260116T120000
DTSTAMP:20251230T201239Z
URL:https://kicmke.org/events/make-valentines-day-cards-grandfriends-park-
 pals-january-2026/
SUMMARY:Make Valentine's Day Cards for Grandfriends with Park Pals
DESCRIPTION:REGISTER HERE\nEngage your children's creativity and compassion
  by creating Valentine's Day cards for grandfriends where Kids Impact Comm
 unity host intergenerational play groups.\n\nActivities\nKids Impact Commu
 nity is partnering with Park Pals for an indoor Winter Series play session
 !\nDuring this event\, children will have the opportunity to create Valent
 ine's Day cards for our grandfriends before joining a 30-minute program of
  music\, movement\, and simple activities. After the guided session\, kids
  can enjoy plenty of space for running\, jumping\, and imaginative play\, 
 while caregivers connect with new families and strengthen community ties. 
 We hope you’ll join us for a warm and joyful winter gathering!\n\nImpact
 \nYour kids will have the chance to create meaningful human connections\, 
 help fight loneliness\, and build a stronger community by brightening the 
 lives of older adults who could really use a little extra love. It’s an 
 opportunity for them to make a difference while having fun!\n\nWhen &amp\;
  Where\nFriday\, Jan. 16 from 10 a.m. – Noon\nSchedule:\n\n\n 	- 10 a.m.
 : Turf Opens for Open Play\n 	- 10:30–11 a.m.: Led Park Pals Program (mu
 sic\, movement &amp\; playful learning)\n 	- 11 a.m.-Noon: Open Play conti
 nues until turf closing\n\nOAW New Berlin: 5330 S Racine Ave.\, New Berlin
 \, WI 53146\nThis is a caregiver-and-child event\; adults remain responsib
 le for their children during all play times.\n\nRegistration Information\n
 Participant Cap: 300 cards\n\nAge: All ages\n\nCost: Free\n\nMaterials: Su
 pplies to make Easter cards will be provided at event\n\nQuestions: Email 
 brianna@kicmke.org with any specific questions.\n\nCancellations: We coun
 t on our registered volunteers to make these projects come to life. Howeve
 r\, we understand illness and emergencies do come up so if you can no long
 er participate\, please email brianna@kicmke.org ASAP so we can fill your
  spot.\nOur Partner\nPark Pals is a free social group designed for toddler
 s and their parents or caregivers. Founded by two former teachers turned s
 tay-at-home moms\, the group is all about creating opportunities for famil
 ies to play\, learn\, and connect while supporting  kids’ development i
 n a relaxed\, welcoming space. It’s an easy-going group where you can co
 me and go as you please\, and feel free to follow your toddler’s lead. T
 hey  know how important it is to get out and meet others while supporting
  your little one’s growth. Visit their website here.
ATTACH;FMTTYPE=image/jpeg:https://kicmke.org/wp-content/uploads/2025/12/Ma
 ke-Valentines-Cards-with-Park-Pals.png
CATEGORIES:Children and Families
END:VEVENT
BEGIN:VTIMEZONE
TZID:America/Chicago
X-LIC-LOCATION:America/Chicago
BEGIN:STANDARD
DTSTART:20251102T010000
TZOFFSETFROM:-0500
TZOFFSETTO:-0600
TZNAME:CST
END:STANDARD
END:VTIMEZONE
END:VCALENDAR