BEGIN:VCALENDAR
VERSION:2.0
PRODID:-//wp-events-plugin.com//7.2.3.1//EN
TZID:America/Chicago
X-WR-TIMEZONE:America/Chicago
BEGIN:VEVENT
UID:240@kicmke.org
DTSTART;TZID=America/Chicago;VALUE=DATE:20230618
DTEND;TZID=America/Chicago;VALUE=DATE:20230619
DTSTAMP:20230531T133107Z
URL:https://kicmke.org/events/lunch-pack-love-june23/
SUMMARY:Lunch Pack and Love
DESCRIPTION:REGISTER HERE\nJust One More Ministry\, located in Glendale\, i
 s an organization that rescues excess food from area restaurants\, food su
 ppliers\, and caterers and repackages them for shelters\, food pantries\, 
 and community members in need.\nInflation and rising grocery prices contin
 ue to disrupt the organization’s regular streams of food\, and they are 
 in need of additional support through packed bagged lunches. These lunches
  are easy to distribute and are handed out as quickly as they are received
 . This is a helpful dinner option for kids if their housing lacks the appl
 iances needed to heat and prepare food.\n\nActivities\nYour family will as
 semble 20 lunches. Your family/group will pack a piece of fruit\, an inspi
 rational care card\, and an additional treat or snack (optional) in a pape
 r bag. Separately\, your group will make the sandwiches (peanut butter and
  jelly or meat and cheese with no condiments)\, wrap them in a plastic san
 dwich bag\, and repack them in the bread bag.\nPurpose\nKids will assist r
 esidents throughout the Greater Milwaukee community struggling with food i
 nsecurity.\nImpact\nKids will gain awareness and understanding of how they
  can help their community in need and have fun along the way!\nWhen &amp\;
  Where\nYour family will complete this project in your own home following 
 food safety guidelines. Drop off the packed lunches on Sunday\, June 18 o
 utside a KIC family home. Locations available in Whitefish Bay and the wes
 t side of Milwaukee (specific addresses will be provided after registratio
 n).\nRegistration Information\nParticipant Cap: 25 families\n\nAge: All a
 ges welcome!\n\nCost: Dependent on what families purchase for the lunch s
 upplies.\n\nQuestions: Reach out to Rachel at rachel@kicmke.org with any 
 questions.\n\nCancellations: In the event that circumstances change and yo
 u are no longer able to assist\, please email rachel@kicmke.org.\nMore Inf
 ormation\nLearn more about the Just One More Ministry on their website\, J
 Sonline article\, CBS58 segment.
ATTACH;FMTTYPE=image/jpeg:https://kicmke.org/wp-content/uploads/2022/09/Lu
 nch-Pack-and-Love-2.png
CATEGORIES:Children and Families,Meals
END:VEVENT
BEGIN:VTIMEZONE
TZID:America/Chicago
X-LIC-LOCATION:America/Chicago
BEGIN:DAYLIGHT
DTSTART:20230312T030000
TZOFFSETFROM:-0600
TZOFFSETTO:-0500
TZNAME:CDT
END:DAYLIGHT
END:VTIMEZONE
END:VCALENDAR