BEGIN:VCALENDAR
VERSION:2.0
PRODID:-//wp-events-plugin.com//7.2.3.1//EN
TZID:America/Chicago
X-WR-TIMEZONE:America/Chicago
BEGIN:VEVENT
UID:260@kicmke.org
DTSTART;TZID=America/Chicago:20230917T130000
DTEND;TZID=America/Chicago:20230917T200000
DTSTAMP:20230831T134448Z
URL:https://kicmke.org/events/lunch-pack-and-love-sept23/
SUMMARY:Lunch Pack and Love
DESCRIPTION:REGISTER HERE\nJust One More Ministry\, located in Glendale\, i
 s an organization that rescues excess food from area restaurants\, food su
 ppliers\, and caterers and repackages them for shelters\, food pantries\, 
 and community members in need.\n\nInflation and rising grocery prices con
 tinue to disrupt the organization’s regular streams of food\, and they a
 re in need of additional support through packed bagged lunches. These lunc
 hes are easy to distribute and are handed out as quickly as they are recei
 ved. This is a helpful dinner option for kids if their housing lacks the a
 ppliances needed to heat and prepare food.\nActivities\nYour family will a
 ssemble 20 lunches including a sandwich (peanut butter and jelly or meat a
 nd cheese with no condiments) wrapped in a plastic sandwich bag\, a piece 
 of fruit (orange/clementine\, banana\, or apple)\, and an inspirational no
 te/care card (or whatever beautiful decorations your littles wish to creat
 e). If you would like to include an additional treat or snack\, feel free 
 though it is completely optional. Once you’ve assembled the lunch items\
 , place them all into a paper lunch bag. Sandwiches should remain separate
  from the other lunch elements. Just One More Ministry will be freezing th
 em prior to delivery to ensure health safety.\nPurpose\nKids will assist r
 esidents throughout the Greater Milwaukee community struggling with food i
 nsecurity.\n\nImpact\nKids will gain awareness and understanding of how th
 eir own capabilities can help their community in need.\n\nWhen &amp\; Wher
 e\nYour family will complete this project in your own home following food 
 safety guidelines.\nDrop off the packed lunches outside a KIC family home 
 in Bayside\, Whitefish Bay\, Bayview\, and the West Side of Milwaukee (spe
 cific addresses will be provided after sign-up) between 1-8 p.m. on Sunday
 \, September 17. We will deliver all lunches to Just One More Ministry for
  distribution on September 18.\n\nRegistration Information\nParticipants: 
 20 family cap and all ages welcome\nCost: Dependent on what families buy 
 for the bagged lunch supplies.\nMaterials: You will be responsible for su
 pplying the following materials to complete 20 packed lunches:\n\n\n 	\n\n
  	Approximately two loaves of bread\n 	Peanut butter and jelly or meat and
  cheese\n 	Clementines/oranges\, bananas\, or apples\n 	Additional treat/s
 nack (optional)\n 	Plastic sandwich bags\n 	Paper lunch bags\n 	Inspiratio
 nal notes decorated by the kids\n\n\n 	\n\nCancellations: In the event tha
 t circumstances change and you are no longer able to assist\, please email
  rachel@kicmke.org.\nQuestions: Please contact rachel@kicmke.org with 
 any questions.\nIn order to assure food safety in preparing food for the c
 ommunity in your own home\, all volunteers must agree to:\n\n 	\n\n 	Follo
 w USDA guidelines to fully disinfect the surface prior to meal preparation
 \n 	Follow the Wisconsin Department of Agriculture\, Trade and Consumer Pr
 otection guidelines on washing hands with soap and water for at least 20 s
 econds\n 	Follow the WI DATCP rules on no bare hand contact with ready-to-
 eat foods ie. wear gloves or use tongs. When using disposable gloves\, ref
 er to these guidelines.\n 	To ensure health and safety in preparing food f
 or people outside of our own families\, we also ask that everyone two year
 s of age and older wear a cloth face covering while preparing the sandwich
 es.\n\n\n\nLearn more about the Just One More Ministry on their website\,
  JSonline article\, and CBS58 segment.
ATTACH;FMTTYPE=image/jpeg:https://kicmke.org/wp-content/uploads/2023/05/Lu
 nch-Pack-and-Love-2.png
CATEGORIES:Meals
END:VEVENT
BEGIN:VTIMEZONE
TZID:America/Chicago
X-LIC-LOCATION:America/Chicago
BEGIN:DAYLIGHT
DTSTART:20230312T030000
TZOFFSETFROM:-0600
TZOFFSETTO:-0500
TZNAME:CDT
END:DAYLIGHT
END:VTIMEZONE
END:VCALENDAR