BEGIN:VCALENDAR
VERSION:2.0
PRODID:-//wp-events-plugin.com//7.2.3.1//EN
TZID:America/Chicago
X-WR-TIMEZONE:America/Chicago
BEGIN:VEVENT
UID:248@kicmke.org
DTSTART;TZID=America/Chicago:20230723T130000
DTEND;TZID=America/Chicago:20230723T200000
DTSTAMP:20230629T010810Z
URL:https://kicmke.org/events/lunch-pack-and-love-july23/
SUMMARY:Lunch Pack and Love
DESCRIPTION:REGISTER HERE\nJust One More Ministry\, located in Glendale\, i
 s an organization that rescues excess food from area restaurants\, food su
 ppliers\, and caterers and repackages them for shelters\, food pantries\, 
 and community members in need.\nInflation and rising grocery prices contin
 ue to disrupt the organization’s regular streams of food\, and they are 
 in need of additional support through packed bagged lunches. These lunches
  are easy to distribute and are handed out as quickly as they are received
 . This is a helpful dinner option for kids if their housing lacks the appl
 iances needed to heat and prepare food.\n\nActivities\nYour family will as
 semble 20 lunches. Your family/group will pack a piece of fruit\, an inspi
 rational care card\, and an additional treat or snack (optional) in a pape
 r bag. Separately\, your group will make the sandwiches (peanut butter and
  jelly or meat and cheese with no condiments)\, wrap them in a plastic san
 dwich bag\, and repack them in the bread bag.\nPurpose\nKids will assist r
 esidents throughout the Greater Milwaukee community struggling with food i
 nsecurity.\nImpact\nKids will gain awareness and understanding of how they
  can help their community in need and have fun along the way!\nWhen &amp\;
  Where\nYour family will complete this project in your own home following 
 food safety guidelines.\n\nDrop off the packed lunches outside a KIC famil
 y home (Bayside/Whitefish Bay/southside of Milwaukee/west side of Milwauke
 e - specific addresses will be provided after sign-up.) between 1-8 p.m. o
 n Sunday\, July 23. We will deliver all lunches to Just One More Ministry 
 for distribution on July 24.\nRegistration Information\nParticipant Cap: 
 20 families\n\nAge: All ages welcome!\n\nCost: Dependent on what families
  purchase for the lunch supplies.\n\nQuestions: Reach out to Rachel at rac
 hel@kicmke.org with any questions.\n\nCancellations: In the event that ci
 rcumstances change and you are no longer able to assist\, please email rac
 hel@kicmke.org.\nWaivers\nIn order to ensure meals are safe to be distribu
 ted throughout our community\, volunteers must meet specific requirements 
 to be eligible to assemble the lunches. You must confirm that all statemen
 ts below are true for you and anyone in your household where lunches will 
 be packed. (You will sign this waiver on the next screen).\n\n 	\nNo one i
 n my family has tested positive for COVID-19 in the past 2 weeks\, nor is
  anyone currently under quarantine.\n\n 	\nNo one in my family experienced
  any symptoms of COVID-19 (fever\, cough\, shortness of breath) in the pas
 t 2 weeks.\n\n 	\nNo one in my family has come into contact with anyone te
 sting positive for COVID-19 in the past 2 weeks.\n\n 	\nNo one in my famil
 y has\, to my knowledge\, been exposed to or come into contact with someon
 e with or presumed to have COVID-19 in the past 2 weeks.\n\n 	\nWe have fo
 llowed CDC guidelines to avoid infection (wear masks\, stay home as much a
 s possible\, keep 6 feet away from others\, and wash hands frequently). \
 n\n\nIn order to assure food safety in preparing food for the community in
  your own home\, all volunteers must agree to:\n1) Follow CDC guidelines t
 o fully disinfect the surface prior to meal preparation\n2) Follow the Wis
 consin Department of Agriculture\, Trade and Consumer Protection guideline
 s on washing hands with soap and water for at least 20 seconds\n3) Follow 
 the WI DATCP rules on no bare hand contact with ready-to-eat foods ie. wea
 r gloves or use tongs. When using disposable gloves\, refer to these guide
 lines.\n4) To ensure health and safety in preparing food for people outsid
 e of our own families\, we also ask that everyone two years of age and old
 er wear a cloth face covering while preparing the sandwiches. \nFor KIC p
 romotion purposes\, KIC will be requesting submission of photographs of pa
 rticipants to share on our social media sites. No names or any other ident
 ifying information will be shared if the photograph is used\, unless reque
 sted. I hereby release and discharge KIC from any and all claims and deman
 ds arising out of or in connection with the use of the photographs I submi
 t\, including without limitation any and all claims for libel or invasion 
 of privacy.\n\nMore Information\nLearn more about the Just One More Minist
 ry on their website\, JSonline article\, CBS58 segment.
ATTACH;FMTTYPE=image/jpeg:https://kicmke.org/wp-content/uploads/2023/05/Lu
 nch-Pack-and-Love-2.png
CATEGORIES:Children and Families,Meals
END:VEVENT
BEGIN:VTIMEZONE
TZID:America/Chicago
X-LIC-LOCATION:America/Chicago
BEGIN:DAYLIGHT
DTSTART:20230312T030000
TZOFFSETFROM:-0600
TZOFFSETTO:-0500
TZNAME:CDT
END:DAYLIGHT
END:VTIMEZONE
END:VCALENDAR