BEGIN:VCALENDAR
VERSION:2.0
PRODID:-//wp-events-plugin.com//7.2.3.1//EN
TZID:America/Chicago
X-WR-TIMEZONE:America/Chicago
BEGIN:VEVENT
UID:605@kicmke.org
DTSTART;TZID=America/Chicago:20260125T130000
DTEND;TZID=America/Chicago:20260125T200000
DTSTAMP:20251211T191806Z
URL:https://kicmke.org/events/lunch-pack-and-love-jan-2026/
SUMMARY:[MLK] Lunch Pack and Love with Just One More Ministry
DESCRIPTION:REGISTER HERE\nJust One More Ministry\, located in Glendale\, i
 s an organization that rescues excess food from area restaurants\, food su
 ppliers\, and caterers and repackages it for shelters\, food pantries\, an
 d community members in need. Inflation and rising grocery prices continue 
 to create challenges for our hurting neighbors\, and these lunches are eas
 y to distribute and are handed out as quickly as they are received. Just O
 ne More Ministry is currently distributing over 1\,400 bagged lunches a we
 ek!\n\nActivities\nYour family will assemble 20 lunch bags with a piece of
  fruit (orange/clementine\, banana\, or apple)\, snack (optional)\, and an
  inspirational note/care card (or whatever beautiful decorations your litt
 les wish to create).\nSeparately your family will make 20 sandwiches (pea
 nut butter and jelly or meat and cheese with no condiments) wrapped in a p
 lastic sandwich bag. The sandwich bags will be stacked inside an empty br
 ead bag so Just One More Ministry can easily freeze them.\n\nImpact\nKids 
 will gain awareness and understanding of how their own capabilities can he
 lp their community in need.\n\nWhen &amp\; Where\nYour family will complet
 e this project in your own home following food safety guidelines.\nDrop of
 f the packed lunches outside a KIC family home (Bayside\, Whitefish Bay\, 
 west side of Milwaukee - specific addresses will be provided after sign-up
 .) between 1-8 p.m. on Sunday\, Jan. 25. We will deliver all lunches to Ju
 st One More Ministry for distribution.\n\nRegistration Information\nAges: 
 All ages welcome\nCost: Dependent on what families buy for the bagged lun
 ch supplies.\nMaterials: You will be responsible for supplying the follow
 ing materials to complete 20 packed lunches:\n\n\n 	\n\n 	Approximately tw
 o loaves of bread\n 	Peanut butter and jelly or meat and cheese\n 	Clement
 ines/oranges\, bananas\, or apples\n 	Additional treat/snack (optional)\n 
 	Plastic sandwich bags\n 	Paper lunch bags\n 	Inspirational notes decorate
 d by the kids\n\n\n\nQuestions: Please contact rachel@kicmke.org with a
 ny questions.\nCancellations: In the event that circumstances change and y
 ou are no longer able to assist\, please email rachel@kicmke.org.\nIn ord
 er to assure food safety in preparing food for the community in your own h
 ome\, all volunteers must agree to:\n\n 	\n\n 	Follow USDA guidelines to f
 ully disinfect the surface prior to meal preparation\n 	Follow the Wiscons
 in Department of Agriculture\, Trade and Consumer Protection guidelines on
  washing hands with soap and water for at least 20 seconds\n 	Follow the W
 I DATCP rules on no bare hand contact with ready-to-eat foods ie. wear glo
 ves or use tongs. When using disposable gloves\, refer to these guidelines
 .\n 	To ensure health and safety in preparing food for people outside of o
 ur own families\, we also ask that everyone two years of age and older wea
 r a cloth face covering while preparing the sandwiches.\n\n\n\nOur Partner
 \nLearn more about the Just One More Ministry on their website\, JSonline
  article\, and CBS58 segment.\n\nMLK National Day of Service Series\nCele
 brate the legacy of Dr. Martin Luther King\, Jr. as we help our children b
 uild a world where all people are treated with kindness and respect. Brows
 e the events a part of our MLK service series.
ATTACH;FMTTYPE=image/jpeg:https://kicmke.org/wp-content/uploads/2025/09/Lu
 nch-Pack.png
CATEGORIES:On Your Own
END:VEVENT
BEGIN:VTIMEZONE
TZID:America/Chicago
X-LIC-LOCATION:America/Chicago
BEGIN:STANDARD
DTSTART:20251102T010000
TZOFFSETFROM:-0500
TZOFFSETTO:-0600
TZNAME:CST
END:STANDARD
END:VTIMEZONE
END:VCALENDAR