BEGIN:VCALENDAR
VERSION:2.0
PRODID:-//wp-events-plugin.com//7.2.3.1//EN
TZID:America/Chicago
X-WR-TIMEZONE:America/Chicago
BEGIN:VEVENT
UID:254@kicmke.org
DTSTART;TZID=America/Chicago:20230718T103000
DTEND;TZID=America/Chicago:20230718T113000
DTSTAMP:20230714T023858Z
URL:https://kicmke.org/events/lemonade-on-the-lawn-july23/
SUMMARY:Lemonade on the Lawn
DESCRIPTION:REGISTER HERE\nOlder adults have a special place in our hearts.
  Kids Impact Community has hosted intergenerational playgroups since the o
 rganization’s inception. Our kiddos have learned patience\, kindness\, a
 nd how to make new friends of all ages\, and our grandfriends benefit trem
 endously from the interaction with our children.\nActivities\nYour family 
 will be reading with residents and serving lemonade in an outdoor area at 
 Eastcastle. We will also do spray tie dye! An easy and neat way to tie dye
 .\nImpact\nWe hope that all of the children participating will grow in awa
 reness of their capability to spread love and kindness to others.\n\nWhen 
 &amp\; Where\nTuesday\, July 18th at 10:30 a.m.\n\nEastcastle Place\n\n250
 5 E Bradford Place\, Milwaukee\, WI 53211\n\nPlease meet at the lawn/gazeb
 o entrance which is located on Bradford right by the corner of Bradford an
 d Downer.\n\nParking: Street parking is available on Bradford Place or Sto
 well Ave. Please allow some time to find parking.\nRegistration Informatio
 n\nAges: All ages welcome!\nCost: Free\nMaterials: Bring a favorite book o
 r two and a blanket to sit on. Please bring something white to tie dye.\nQ
 uestions: If you have any questions\, please contact Julia Mattek at jul
 ia@kicmke.org.\nCDC UPDATE from 12/2021: https://www.cdc.gov/media/release
 s/2021/s1227-isolation-quarantine-guidance.html \n\nLiability Waiver with
  COVID-19 precaution acknowledgments: \n\nI\, the undersigned and/or pare
 nt/guardian of the individual(s) named above\, do hereby agree to indemnif
 y and hold harmless Kids Impact Community\, and its agent from and against
  any and all liability resulting from participation in the project listed 
 above. I understand that the project (s) in which I am enrolling\, like al
 l activity programs\, has some inherent risk\, for which I agree to assume
  the liability. Furthermore\, the individuals named herein are in good hea
 lth and appropriate for the activities in which they will be participating
 .  Additionally\, I confirm that all statements below are true for myself
  and anyone in my household.\n\n 	No one in my family has tested positive 
 for COVID-19 in the past week nor is anyone currently under quarantine.\n 
 	No one in my family experienced any symptoms of COVID-19 (fever\, cough\,
  shortness of breath) in the past week.\n 	No one in my family has come in
 to contact with anyone testing positive for COVID-19 in the past week.\n 	
 No one in my family has\, to my knowledge\, been exposed to or come into c
 ontact with someone with or presumed to have COVID-19 in the past week.\n\
 nFor KIC promotion purposes\, photographs may be taken of participants. If
  you do not wish to have your photo taken\, please notify the photographer
  or instructor. No names or any other identifying information will be shar
 ed if the photograph is used\, unless requested.
ATTACH;FMTTYPE=image/jpeg:https://kicmke.org/wp-content/uploads/2023/05/Le
 monade-on-the-Lawn.png
CATEGORIES:Seniors
END:VEVENT
BEGIN:VTIMEZONE
TZID:America/Chicago
X-LIC-LOCATION:America/Chicago
BEGIN:DAYLIGHT
DTSTART:20230312T030000
TZOFFSETFROM:-0600
TZOFFSETTO:-0500
TZNAME:CDT
END:DAYLIGHT
END:VTIMEZONE
END:VCALENDAR