BEGIN:VCALENDAR
VERSION:2.0
PRODID:-//wp-events-plugin.com//7.2.3.1//EN
TZID:America/Chicago
X-WR-TIMEZONE:America/Chicago
BEGIN:VEVENT
UID:366@kicmke.org
DTSTART;TZID=America/Chicago:20240708T103000
DTEND;TZID=America/Chicago:20240708T113000
DTSTAMP:20240627T012355Z
URL:https://kicmke.org/events/lemonade-on-the-lawn-july2024/
SUMMARY:Lemonade on the Lawn
DESCRIPTION:REGISTER HERE\nOlder adults have a special place in our hearts.
  Kids Impact Community has hosted intergenerational playgroups since the o
 rganization’s inception. Our kiddos have learned patience\, kindness\, a
 nd how to make new friends of all ages\, and our grandfriends benefit trem
 endously from the interaction with our children.\nActivities\nYour family 
 will be reading with residents and serving lemonade in an outdoor area at 
 Eastcastle.\nImpact\nWe hope that all of the children participating will g
 row in awareness of their capability to spread love and kindness to others
 .\n\nWhen &amp\; Where\nMonday\, July 8th from 10:30-11:30 a.m.\n\nEastcas
 tle Place\n\n2505 E Bradford Place\, Milwaukee\, WI 53211\n\nPlease meet a
 t the lawn/gazebo entrance which is located on Bradford right by the corne
 r of Bradford and Downer.\n\nParking: Street parking is available on Bradf
 ord Place or Stowell Ave. Please allow some time to find parking.\nRegistr
 ation Information\nAges: All ages welcome!\nCost: Free\nMaterials: Bring a
  favorite book or two and a blanket to sit on.\nCancellations: We count on
  our registered volunteers to make these projects come to life. However\, 
 we understand illness and emergencies do come up so if you can no longer p
 articipate\, please email julia@kicmke.org ASAP so we can fill your spot.
 \nQuestions: If you have any questions\, please email julia@kicmke.org.\n
 \nOur Partner\nEastcastle Place is a nonprofit senior living community de
 dicated to serving residents and their families by offering a full continu
 um of care and fostering active and fulfilling lifestyles while respecting
  the dignity and independence of our residents. Learn more on their websi
 te.
ATTACH;FMTTYPE=image/jpeg:https://kicmke.org/wp-content/uploads/2023/05/Le
 monade-on-the-Lawn.png
CATEGORIES:Seniors
END:VEVENT
BEGIN:VTIMEZONE
TZID:America/Chicago
X-LIC-LOCATION:America/Chicago
BEGIN:DAYLIGHT
DTSTART:20240310T030000
TZOFFSETFROM:-0600
TZOFFSETTO:-0500
TZNAME:CDT
END:DAYLIGHT
END:VTIMEZONE
END:VCALENDAR