BEGIN:VCALENDAR
VERSION:2.0
PRODID:-//wp-events-plugin.com//7.2.3.1//EN
TZID:America/Chicago
X-WR-TIMEZONE:America/Chicago
BEGIN:VEVENT
UID:255@kicmke.org
DTSTART;TZID=America/Chicago:20230815T103000
DTEND;TZID=America/Chicago:20230815T113000
DTSTAMP:20230725T002111Z
URL:https://kicmke.org/events/lemonade-on-the-lawn-aug23/
SUMMARY:Lemonade on the Lawn
DESCRIPTION:REGISTER HERE\nOlder adults have a special place in our hearts.
  Kids Impact Community has hosted intergenerational playgroups since the o
 rganization’s inception. Our kiddos have learned patience\, kindness\, a
 nd how to make new friends of all ages\, and our grandfriends benefit trem
 endously from the interaction with our children.\nActivities\nYour family 
 will be reading with residents and serving lemonade in an outdoor area at 
 Eastcastle.\nPurpose\nSpending time connecting with and engaging with adul
 ts from other generations.\nImpact\nWe hope that all of the children parti
 cipating will grow in awareness of their capability to spread love and kin
 dness to others.\n\nWhen &amp\; Where\nTuesday\, Aug. 15 at 10:30 a.m.\n\n
 Eastcastle Place\n\n2505 E Bradford Place\, Milwaukee\, WI 53211\n\nPlease
  meet at the lawn/gazebo entrance which is located on Bradford right by th
 e corner of Bradford and Downer.\n\nParking: Street parking is available o
 n Bradford Place or Stowell Ave. Please allow some time to find parking.\n
 Registration Information\nAges: All ages welcome!\nCost: Free\nMaterials: 
 Bring a favorite book or two and a blanket to sit on.\nQuestions: If you 
 have any questions\, please contact Julia Mattek at julia@kicmke.org.\nCD
 C UPDATE from 12/2021: https://www.cdc.gov/media/releases/2021/s1227-isola
 tion-quarantine-guidance.html \n\nLiability Waiver with COVID-19 precauti
 on acknowledgments: \n\nI\, the undersigned and/or parent/guardian of the
  individual(s) named above\, do hereby agree to indemnify and hold harmles
 s Kids Impact Community\, and its agent from and against any and all liabi
 lity resulting from participation in the project listed above. I understan
 d that the project (s) in which I am enrolling\, like all activity program
 s\, has some inherent risk\, for which I agree to assume the liability. Fu
 rthermore\, the individuals named herein are in good health and appropriat
 e for the activities in which they will be participating.  Additionally\,
  I confirm that all statements below are true for myself and anyone in my 
 household.\n\n 	No one in my family has tested positive for COVID-19 in th
 e past week nor is anyone currently under quarantine.\n 	No one in my fami
 ly experienced any symptoms of COVID-19 (fever\, cough\, shortness of brea
 th) in the past week.\n 	No one in my family has come into contact with an
 yone testing positive for COVID-19 in the past week.\n 	No one in my famil
 y has\, to my knowledge\, been exposed to or come into contact with someon
 e with or presumed to have COVID-19 in the past week.\n\nFor KIC promotion
  purposes\, photographs may be taken of participants. If you do not wish t
 o have your photo taken\, please notify the photographer or instructor. No
  names or any other identifying information will be shared if the photogra
 ph is used\, unless requested.
ATTACH;FMTTYPE=image/jpeg:https://kicmke.org/wp-content/uploads/2023/05/Le
 monade-on-the-Lawn.png
CATEGORIES:Seniors
END:VEVENT
BEGIN:VTIMEZONE
TZID:America/Chicago
X-LIC-LOCATION:America/Chicago
BEGIN:DAYLIGHT
DTSTART:20230312T030000
TZOFFSETFROM:-0600
TZOFFSETTO:-0500
TZNAME:CDT
END:DAYLIGHT
END:VTIMEZONE
END:VCALENDAR