BEGIN:VCALENDAR
VERSION:2.0
PRODID:-//wp-events-plugin.com//7.2.3.1//EN
TZID:America/Chicago
X-WR-TIMEZONE:America/Chicago
BEGIN:VEVENT
UID:241@kicmke.org
DTSTART;TZID=America/Chicago:20230620T103000
DTEND;TZID=America/Chicago:20230620T113000
DTSTAMP:20230531T045542Z
URL:https://kicmke.org/events/lemonade-lawn-eastcastle-june23/
SUMMARY:Lemonade on the Lawn
DESCRIPTION:REGISTER HERE\nOlder adults have a special place in our hearts.
  Kids Impact Community has hosted intergenerational playgroups since the o
 rganization’s inception. Our kiddos have learned patience\, kindness\, a
 nd how to make new friends of all ages\, and our grandfriends benefit trem
 endously from the interaction with our children.\nActivities\nYour family 
 will be reading with residents and serving lemonade in an outdoor area at 
 Eastcastle (2505 E Bradford Place). We will also do an art activity.\nPurp
 ose\nSpending time connecting with and engaging with adults from other gen
 erations\nImpact\nWe hope that all of the children participating will grow
  in awareness of their capability to spread love and kindness to others\nW
 hen &amp\; Where\nTuesday\, June 20th at 10:30 am\n\nEastcastle Place\n\n2
 505 E Bradford Place\, Milwaukee\, WI 53211\n\nPlease meet at the outdoor 
 main entrance\, however\, if you don't see us or you are running late the 
 lawn entrance is located on Bradford right by the corner of Bradford and D
 owner.\n\nParking: Street parking is available on Bradford Place or Stowel
 l Ave. Please allow some time to find parking.\nRegistration Information\n
 Participant Cap: 25 families\n\nAge: All ages welcome!\n\nCost: No cost\
 n\nMaterials: Bring a favorite book or two and a blanket to sit on\n\nQues
 tions: Contact julia@kicmke.org with any questions.\n\nCancellations: In 
 the event that circumstances change and you are no longer able to assist\,
  please email julia@kicmke.org.\n\nCDC UPDATE from 12/2021:\n\nLiability W
 aiver with COVID-19 precaution acknowledgments:\n\nI\, the undersigned and
 /or parent/guardian of the individual(s) named above\, do hereby agree to 
 indemnify and hold harmless Kids Impact Community\, and its agent from and
  against any and all liability resulting from participation in the project
  listed above. I understand that the project (s) in which I am enrolling\,
  like all activity programs\, has some inherent risk\, for which I agree t
 o assume the liability. Furthermore\, the individuals named herein are in 
 good health appropriate for the activities in which they will be participa
 ting.  Additionally\, I confirm that all statements below are true for my
 self and anyone in my household.\n1. No one in my family has tested positi
 ve for COVID-19 in the past week nor is anyone currently under quarantine.
 \n2. No one in my family experienced any symptoms of COVID-19 (fever\, cou
 gh\, shortness of breath) in the past week.\n3. No one in my family has co
 me into contact with anyone testing positive for COVID-19 in the past week
 .\n4. No one in my family has\, to my knowledge\, been exposed to or come 
 into contact with someone with or presumed to have COVID-19 in the past we
 ek.\nFor KIC promotion purposes\, photographs may be taken of participants
 . If you do not wish to have your photo taken\, please notify the photogra
 pher or instructor. No names or any other identifying information will be 
 shared if the photograph is used unless requested.
ATTACH;FMTTYPE=image/jpeg:https://kicmke.org/wp-content/uploads/2023/05/Le
 monade-on-the-Lawn.png
CATEGORIES:Children and Families,Seniors
END:VEVENT
BEGIN:VTIMEZONE
TZID:America/Chicago
X-LIC-LOCATION:America/Chicago
BEGIN:DAYLIGHT
DTSTART:20230312T030000
TZOFFSETFROM:-0600
TZOFFSETTO:-0500
TZNAME:CDT
END:DAYLIGHT
END:VTIMEZONE
END:VCALENDAR