BEGIN:VCALENDAR
VERSION:2.0
PRODID:-//wp-events-plugin.com//7.2.3.1//EN
TZID:America/Chicago
X-WR-TIMEZONE:America/Chicago
BEGIN:VEVENT
UID:479@kicmke.org
DTSTART;TZID=America/Chicago:20250425T120000
DTEND;TZID=America/Chicago:20250425T180000
DTSTAMP:20250330T152612Z
URL:https://kicmke.org/events/kids-clothing-swap-urban-ecology-center-apri
 l25-2025/
SUMMARY:Kids Clothing Swap
DESCRIPTION:No registration is required to attend this event.\nSwap don’t
  Shop! Clothing swaps are a sustainable alternative to buying new clothing
 . Bring the garments your kids no longer want or need and give them a new 
 home at the Urban Ecology Clothing Swap.\n\nActivities\nTrade clothes and 
 compliments with your friends and neighbors while snagging new stuff for y
 our family’s closet. Please focus on clothing sizes newborn to Youth Med
 ium 6-8. Any clothing not selected will be organized by volunteers and don
 ated to other local organizations.\nAfter the clothing swap\, visit the an
 imals that live at the Urban Ecology Center\, check out the secret slide\,
  and take a family hike along the river to celebrate Earth Day!\n\nImpact\
 nReduce. Reuse. Recycle!! Talk with your kids about the benefits of a circ
 ular economy.\n\nWhen &amp\; Where\nFriday\, April 25 from 12-6 p.m.\nSatu
 rday\, April 26 from 9 a.m. to 3 p.m.\nUrban Ecology Center - Riverside Pa
 rk\n1500 E. Park Pl\nMilwaukee\, WI 53211\nParking: Drive just past the Ur
 ban Ecology Center in Riverside and over a small bridge to the large parki
 ng lot. It is just a short walk to the building from the parking lot.\n\nR
 egistration Information\nParticipant Cap: 20 participants\nAge: All ages\n
 Cost: Free\nMaterials: Dress for the weather! Wear sunscreen and bring wat
 er.\nQuestions: Email Erin Whitney at ewhitney@urbanecologycenter.org\n\nO
 ur Partner\nThe Urban Ecology Center connects people in cities to nature a
 nd each other. Their vision is to inspire generations to build environment
 al curiosity\, understanding\, and respect. They restore hope and heal our
  urban natural world\, neighborhood by neighborhood. They have locations a
 t Riverside Park\, Menomonee Valley\, and Washington Park. Learn more on t
 heir website.
ATTACH;FMTTYPE=image/jpeg:https://kicmke.org/wp-content/uploads/2025/03/Ki
 ds-Clothing-Swap-at-UEC.png
CATEGORIES:Children and Families
END:VEVENT
BEGIN:VTIMEZONE
TZID:America/Chicago
X-LIC-LOCATION:America/Chicago
BEGIN:DAYLIGHT
DTSTART:20250309T030000
TZOFFSETFROM:-0600
TZOFFSETTO:-0500
TZNAME:CDT
END:DAYLIGHT
END:VTIMEZONE
END:VCALENDAR