BEGIN:VCALENDAR
VERSION:2.0
PRODID:-//wp-events-plugin.com//7.2.3.1//EN
TZID:America/Chicago
X-WR-TIMEZONE:America/Chicago
BEGIN:VEVENT
UID:380@kicmke.org
DTSTART;TZID=America/Chicago:20240825T160000
DTEND;TZID=America/Chicago:20240825T170000
DTSTAMP:20240731T005325Z
URL:https://kicmke.org/events/kic-yoga-fundraiser-aug2024/
SUMMARY:KIC Yoga Fundraiser
DESCRIPTION:REGISTER HERE\nRelax. Connect. Support KIC.\n\nPlease join us f
 or an adults-only KIC yoga fundraiser with our very own project leader Sen
 ta. Embrace the power of pause at Healium Hot Yoga-West Allis for a Gently
  Heated Slow Flow to benefit Kids Impact Community!\n\nParticipants who do
 nate $50 or more will enter a raffle for a one-of-a-kind artist-designed y
 oga mat.\n\nAny questions about the yoga event? Please reach out to sent
 a@kicmke.org.
ATTACH;FMTTYPE=image/jpeg:https://kicmke.org/wp-content/uploads/2024/07/KI
 C-Yoga-Fundraiser.png
CATEGORIES:Children and Families
END:VEVENT
BEGIN:VTIMEZONE
TZID:America/Chicago
X-LIC-LOCATION:America/Chicago
BEGIN:DAYLIGHT
DTSTART:20240310T030000
TZOFFSETFROM:-0600
TZOFFSETTO:-0500
TZNAME:CDT
END:DAYLIGHT
END:VTIMEZONE
END:VCALENDAR