BEGIN:VCALENDAR
VERSION:2.0
PRODID:-//wp-events-plugin.com//7.2.3.1//EN
TZID:America/Chicago
X-WR-TIMEZONE:America/Chicago
BEGIN:VEVENT
UID:601@kicmke.org
DTSTART;TZID=America/Chicago;VALUE=DATE:20260117
DTEND;TZID=America/Chicago;VALUE=DATE:20260120
DTSTAMP:20251211T191135Z
URL:https://kicmke.org/events/junior-volunteer-at-mlk-day-event-2026/
SUMMARY:[MLK] Junior Leader at MLK Day Event
DESCRIPTION:In order to make our MLK National Day of Service program a succ
 ess\, we need junior leaders ages 9+ to help!\n\nSATURDAY\, JAN. 17 REGIST
 ER\n Junior Leaders will assist with setting up the service project stati
 ons and prepping some of our crafts. \nMONDAY\, JAN. 19 REGISTER\nJunior P
 rogram Volunteers will be assigned to work at stations throughout the even
 t. \n\nActivities will include:\n\n 	\n\n 	- Welcome/Registration Table - 
 Welcome and direct attendees\; help families find their name tags\n 	- Boo
 k Corner - Read with younger kids\; help families pick out books\; keep bo
 ok corner tidy\n 	- Winter Hygiene Kits - Manage bins of completed bags\; 
 ensure items are stocked\; throw away extraneous packaging\n 	- Snack Pack
  - Manage bins of completed bags\; ensure items are stocked\; throw away e
 xtraneous packaging   \n 	- Cancer Care Kits - Instruct and assist kids
  as necessary\n 	- Chain of Community - Instruct and assist kids as necess
 ary\n 	- Additional Project Stations - Instruct and assist kids as necessa
 ry\n\n\n\nImpact\nKids will gain confidence\, practice responsibility\, an
 d work collaboratively with others to solve problems as they grow their le
 adership skills.\n\nWhen &amp\; Where\nSaturday\, January 17 from 1-3 p.m.
 \nAND/OR\nMonday\, January 19 from 9:30 a.m.-12:30 p.m.\nCongregation Shal
 om\n7630 N. Santa Monica Blvd\, Fox Point 5321\nTHANK YOU to Congregation 
 Shalom for generously hosting our Martin Luther King Jr. Day project!\n\nR
 egistration Information\nParticipant Cap\n\n\n 	- 16 Junior Leader volunte
 ers on Jan. 17\n 	- 25 Junior Leader volunteers on Jan. 19\n\nAge: Ages 9+
 \nCost: Free!\nQuestions: Email kitty@kicmke.org with any specific questio
 ns.\nCancellations: We count on our registered volunteers to make these pr
 ojects come to life. However\, we understand illness and emergencies do co
 me up so if you can no longer participate\, please email kitty@kicmke.org 
 ASAP so we can fill your spot.\n\nMLK National Day of Service Series\nCele
 brate the legacy of Dr. Martin Luther King\, Jr. as we help our children b
 uild a world where all people are treated with kindness and respect. Brows
 e the events a part of our MLK service series.
ATTACH;FMTTYPE=image/jpeg:https://kicmke.org/wp-content/uploads/2025/11/ML
 K-Jr-Leaders.png
CATEGORIES:Children and Families
END:VEVENT
BEGIN:VTIMEZONE
TZID:America/Chicago
X-LIC-LOCATION:America/Chicago
BEGIN:STANDARD
DTSTART:20251102T010000
TZOFFSETFROM:-0500
TZOFFSETTO:-0600
TZNAME:CST
END:STANDARD
END:VTIMEZONE
END:VCALENDAR