BEGIN:VCALENDAR
VERSION:2.0
PRODID:-//wp-events-plugin.com//7.2.3.1//EN
TZID:America/Chicago
X-WR-TIMEZONE:America/Chicago
BEGIN:VEVENT
UID:433@kicmke.org
DTSTART;TZID=America/Chicago;VALUE=DATE:20250119
DTEND;TZID=America/Chicago;VALUE=DATE:20250121
DTSTAMP:20241124T161344Z
URL:https://kicmke.org/events/junior-volunteer-at-mlk-day-event-2025/
SUMMARY:Junior Volunteer at MLK Day Event
DESCRIPTION:REGISTER FOR JAN. 19 SET-UP\nREGISTER FOR JAN. 20 EVENT\nThis i
 s a leadership opportunity for kiddos 9+ during the MLK National Day of Se
 rvice event. Join Kids Impact Community for an all-ages\, family-friendly 
 morning of learning and service in celebration of Martin Luther King Jr. D
 ay.\nThis year\, we need junior leaders ages 9+ to help with set-up the da
 y before and assist attendees at various project stations the day of the e
 vent. If your child is ready for a little extra responsibility - this is t
 he perfect experience for them!\n\nActivities\nSunday\, Jan. 19 (3:30-5 p.
 m.): Junior Leaders will assist with setting up the service project statio
 ns.\nMonday\, Jan. 20 (9:30 a.m.- noon): Junior Leaders will be assigned t
 o work at stations throughout the event.\n\n\n 	\n\n 	- Welcome/Registrati
 on Table - Welcome and direct attendees\; help families find their name ta
 gs\n 	- Book Corner - Read with kids\; help families pick out books\; keep
  book corner tidy\n 	- Winter Hygiene Kits - Manage bins of completed bags
 \; ensure items are stocked\; throw away extraneous packaging\n 	- Snack P
 acks - Manage bins of completed bags\; ensure items are stocked\; throw aw
 ay extraneous packaging\n 	- Care Cards Table - Instruct and assist kids a
 s necessary\n 	- Craft Take Away Table - Instruct and assist kids as neces
 sary\n 	- Additional Project Stations - Instruct and assist kids as necess
 ary\n\n\n\nImpact\nKids will gain confidence\, practice responsibility\, a
 nd work collaboratively with others to solve problems as they grow their l
 eadership skills.\n\nWhen &amp\; Where\nSunday\, January 19 from 3:30-5 p.
 m. AND/OR Monday\, January 20 from 9 a.m.-noon\nCongregation Shalom\n7630 
 N. Santa Monica Blvd\, Fox Point 5321\nTHANK YOU to Congregation Shalom fo
 r generously hosting our Martin Luther King Jr. Day project once again thi
 s year!\n\nRegistration Information\nParticipant Cap: 16 volunteers\nAge: 
 Ages 9+\nCost: Free!\nQuestions: Email kitty@kicmke.org with any specific 
 questions.\nCancellations: We count on our registered volunteers to make t
 hese projects come to life. However\, we understand illness and emergencie
 s do come up so if you can no longer participate\, please email kitty@kicm
 ke.org ASAP so we can fill your spot.\n\nOur Partner\nLearn more about our
  partner\, Congregation Shalom\, on their website.
ATTACH;FMTTYPE=image/jpeg:https://kicmke.org/wp-content/uploads/2023/12/20
 24-MLK-Project-Series-Junior-Volunteer2.png
CATEGORIES:Children and Families
END:VEVENT
BEGIN:VTIMEZONE
TZID:America/Chicago
X-LIC-LOCATION:America/Chicago
BEGIN:STANDARD
DTSTART:20241103T010000
TZOFFSETFROM:-0500
TZOFFSETTO:-0600
TZNAME:CST
END:STANDARD
END:VTIMEZONE
END:VCALENDAR