BEGIN:VCALENDAR
VERSION:2.0
PRODID:-//wp-events-plugin.com//7.2.3.1//EN
TZID:America/Chicago
X-WR-TIMEZONE:America/Chicago
BEGIN:VEVENT
UID:619@kicmke.org
DTSTART;TZID=America/Chicago;VALUE=DATE:20260101
DTEND;TZID=America/Chicago;VALUE=DATE:20260213
DTSTAMP:20260201T211103Z
URL:https://kicmke.org/events/junior-leader-project-adoption-stuffed-anima
 l-drive-with-kids-matter-inc-january-2025/
SUMMARY:Junior Leader Project: Adoption Stuffed Animal Drive with Kids Matt
 er Inc.
DESCRIPTION:REGISTER HERE\nDrop off a new or giftable condition (tags on) s
 tuffed animal to be given to children being adopted in Milwaukee County!\n
 \nThank you to our Junior Leader Billie for leading this event!\nActivitie
 s\nSelect stuffies that are "classic" such as teddy bears\, puppies\, bunn
 ies\, kittens etc.\nYou can also pick a stuffy from this Amazon Wishlist\,
  and it will be sent directly to Billie to donate.\nImpact\n These new st
 uffies will go to a child the day they are adopted to make a special day e
 ven more memorable!\n\nWhen &amp\; Where\nDrop off by Feb. 12\nStuffed ani
 mals can be dropped off at one of two drop off locations. You will receive
  a follow-up email after you register with drop off location addresses and
  further details.\n\nRegistration Information\nAges: All ages are welcome 
 to pick out a stuffy\nCost: The cost of a new stuffy\nQuestions: If you ha
 ve any questions\, please contact juniorleader2@kicmke.org.\nCancellations
 : We count on our registered volunteers to make these projects come to lif
 e. However\, we understand illness and emergencies do come up so if you ca
 n no longer participate\, please email juniorleader2@kicmke.org ASAP so we
  can fill your spot.\n\nOur Partner\nKids Matter Inc. is an organization t
 hat supports kinship and foster children. Nearly 100 children in Milwaukee
  County are removed from their homes each month because they are deemed un
 safe\, according to Children’s Wisconsin. Kids Matter Inc. believes that
  every child needs someone in their corner. Through staff and volunteers\,
  Kids Matter makes sure that children and their foster families get the su
 pport they need. Learn more about Kids Matter Inc. on their website.\nBeco
 me A Junior Leader\nKIC invites youth leaders (ages 9-14) to create servic
 e opportunities to engage their peers and work on solutions in the communi
 ty. The Junior Leader will participate in the planning\, development\, and
  execution with an experienced KIC adult leader-mentor. Learn more and app
 ly today.
ATTACH;FMTTYPE=image/jpeg:https://kicmke.org/wp-content/uploads/2025/12/Ju
 nior-Leader-Adoption-Stuffed-Animal-Drive.png
CATEGORIES:Children and Families
END:VEVENT
BEGIN:VTIMEZONE
TZID:America/Chicago
X-LIC-LOCATION:America/Chicago
BEGIN:STANDARD
DTSTART:20251102T010000
TZOFFSETFROM:-0500
TZOFFSETTO:-0600
TZNAME:CST
END:STANDARD
END:VTIMEZONE
END:VCALENDAR