BEGIN:VCALENDAR
VERSION:2.0
PRODID:-//wp-events-plugin.com//7.2.3.1//EN
TZID:America/Chicago
X-WR-TIMEZONE:America/Chicago
BEGIN:VEVENT
UID:245@kicmke.org
DTSTART;TZID=America/Chicago:20230615T161500
DTEND;TZID=America/Chicago:20230615T181500
DTSTAMP:20230614T023820Z
URL:https://kicmke.org/events/june-monthly-meal-program/
SUMMARY:June Monthly Meal Program
DESCRIPTION:REGISTER HERE\nJoin us for our Monthly Taco Night at St. Vincen
 t De Paul (SVDP)! KIC families will pack and distribute 150 taco dinners f
 or adult and child guests of SVDP. This meal program provides meals throug
 hout the year\, and dinners are provided by various charitable organizatio
 ns five nights a week. \nActivities\nParticipants will prepare the dining 
 room and serve food to individuals living with food insecurity. Specific a
 ctivities include the following:\n\n 	Stuff utensils and napkin bags\n 	Se
 t out taco ingredients\, condiments\, rice\, beans\, fruit\, and cookies.\
 n 	Prepare to-go containers with a full meal\n 	Hand out the meals to dinn
 er guests\n 	Basic clean-up post-meal service (sweeping\, wiping tables\, 
 etc.)\n\nPurpose\n Children will serve and act with compassion toward oth
 ers\nImpact\nChildren and their caregivers will serve a healthy meal for g
 uests of the St. Vincent De Paul Meal Program. \nWhen &amp\; Where\nThursd
 ay\, June 15 from 4:15-6:15 p.m.\n\n\nAll Peoples Church\n2600 N. 2nd St.\
 , Milwaukee\, WI 53212\nRegistration Information\nParticipant Cap: 18 part
 icipants\n\nAge: Age 5 and up\n\nCost: Free. Please consider a donation 
 to KIC to help cover the cost of the food.\n\nMaterials: Hairnets\, glove
 s\, and aprons are required and provided at the event. If your family woul
 d like to bring their own aprons and baseball caps\, you are welcome to do
  that. Face coverings are optional at this time.\n\nQuestions: Contact sa
 vannah@kicmke.org or info@kicmke.org with any questions.\n\nCancellations:
  Please email savannah@kicmke.org or info@kicmke.org if you are unable to
  make it so we can invite another family to share in the experience.\nMore
  Information\nTo learn more about the St. Vincent De Paul Meal Program\, v
 isit https://svdpmilw.org/meal-program.aspx. To learn more about All Peopl
 es Church\, visit http://allpeoplesgathering.org/.\nThank you to  Bradley
  &amp\; Company\, Compass Real Estate for their generous sponsorship of 
 our 2023 St. Vincent de Paul Meal Program!\n\n&nbsp\;
ATTACH;FMTTYPE=image/jpeg:https://kicmke.org/wp-content/uploads/2023/05/Mo
 nthly-Meal-Program.png
CATEGORIES:Children and Families,Seniors
END:VEVENT
BEGIN:VTIMEZONE
TZID:America/Chicago
X-LIC-LOCATION:America/Chicago
BEGIN:DAYLIGHT
DTSTART:20230312T030000
TZOFFSETFROM:-0600
TZOFFSETTO:-0500
TZNAME:CDT
END:DAYLIGHT
END:VTIMEZONE
END:VCALENDAR