BEGIN:VCALENDAR
VERSION:2.0
PRODID:-//wp-events-plugin.com//7.2.3.1//EN
TZID:America/Chicago
X-WR-TIMEZONE:America/Chicago
BEGIN:VEVENT
UID:210@kicmke.org
DTSTART;TZID=America/Chicago:20230426T103000
DTEND;TZID=America/Chicago:20230426T111500
DTSTAMP:20230425T201320Z
URL:https://kicmke.org/events/intergenerational-playgroups-the-waters-of-o
 ak-creek-2/
SUMMARY:Intergenerational Playgroups - The Waters of Oak Creek
DESCRIPTION:Older adults have a special place in our hearts. Kids Impact Co
 mmunity has hosted intergenerational playgroups since the organization’s
  inception. Our kiddos have learned patience\, kindness\, and how to make 
 new friends of all ages\, and our "grandfriends" benefit tremendously from
  the interaction with our children.\nActivities\nAt each playgroup\, we fo
 llow the same structure to help children and residents alike become famili
 ar with and comfortable in the playgroup. We begin with a hello song follo
 wed by a book\, a craft\, and an activity. If time permits\, we will have 
 free play followed by our goodbye song. We always have a new fun theme eac
 h month!\n\nPurpose\nTo provide an opportunity for children\, parents\, an
 d assisted living residents to interact and play with each other in a rela
 xed\, friendly\, and organized environment.\n\nImpact\nChildren will devel
 op awareness of and relationships with members of the community they would
  otherwise not meet. Residents in the assisted living facility will have a
  chance to be around our energetic and humorous cutie-pies and offer their
  love and gentle care for them. \n\nWhen and Where\nWednesday\, April 26 f
 rom 10:30-11:15 a.m.\n8000 South Market Street\nOak Creek\, WI 53154\n(Lo
 cated at Drexel Town Square)\nPlease meet in the main lobby.\nParking: The
  Waters has a small parking lot just off Market Street. There is also stre
 et parking right outside of their entrance. Alternatively\, the Oak Creek 
 Library is located across the street and also has parking.\nThis is a cont
 inuation of a series of monthly playgroup sessions each month during the 1
 0:30-11:15 a.m. time frame. We encourage participants to register for upco
 ming sessions as well! Regular attendance helps the residents see familiar
  faces and provides a greater opportunity to develop meaningful relationsh
 ips. Additional dates include:\n\n\n 	May 24\n\nRegistration Information\n
 CLICK HERE TO REGISTER\nParticipant Cap: Maximum of 15 participants\nAge: 
 0-6 years old\nCost: Free\nAttire: Masks are recommended\, but not require
 d for visitors. Have your kids dress for play. We play with paint\, bubble
 s\, markers\, and more!\nQuestions: If you have any questions\, please con
 tact Teresa Rice at teresa@kicmke.org.
ATTACH;FMTTYPE=image/jpeg:https://kicmke.org/wp-content/uploads/2023/03/In
 tergenerational-Playgroups-Waters-of-Oak-Creek-3.png
CATEGORIES:Seniors
LOCATION:Drexel Town Square\, 8000 South Market Street\, Oak Creek\, Wiscon
 sin\, 53154\, United States
X-APPLE-STRUCTURED-LOCATION;VALUE=URI;X-ADDRESS=8000 South Market Street\, 
 Oak Creek\, Wisconsin\, 53154\, United States;X-APPLE-RADIUS=100;X-TITLE=D
 rexel Town Square:geo:0,0
END:VEVENT
BEGIN:VTIMEZONE
TZID:America/Chicago
X-LIC-LOCATION:America/Chicago
BEGIN:DAYLIGHT
DTSTART:20230312T030000
TZOFFSETFROM:-0600
TZOFFSETTO:-0500
TZNAME:CDT
END:DAYLIGHT
END:VTIMEZONE
END:VCALENDAR