BEGIN:VCALENDAR
VERSION:2.0
PRODID:-//wp-events-plugin.com//7.2.3.1//EN
TZID:America/Chicago
X-WR-TIMEZONE:America/Chicago
BEGIN:VEVENT
UID:207@kicmke.org
DTSTART;TZID=America/Chicago:20230518T110000
DTEND;TZID=America/Chicago:20230518T114500
DTSTAMP:20230505T213234Z
URL:https://kicmke.org/events/intergenerational-playgroups-saint-johns-on-
 the-lake/
SUMMARY:Intergenerational Playgroups - Saint John's on the Lake
DESCRIPTION:After a break due to Covid\, the intergenerational groups have 
 returned! We are finally back to reuniting your children and the friends f
 rom St. John's Senior Living Community in a true intergenerational experie
 nce. These monthly playgroups follow simple structured play for 45 minutes
 . This is a great chance for your little one to get out and meet new kids 
 and brighten the day of seniors. By joining these playgroups you and your 
 children will learn patience\, kindness\, and the chance to make new frien
 ds. Our friends at Saint John's benefit tremendously from the interaction 
 with our children.\n\n&nbsp\;\nRegistration Information\nCLICK HERE TO REG
 ISTER\nParticipant Cap: Maximum of 15 participants\nAge: 0-8 years old\nCo
 st: Free\nAttire: Have your kids dress for play. We play with paint\, bubb
 les\, markers\, and more! \nMask Policy: Saint John’s asks that people t
 wo years old and older wear masks.  They completely understand that this 
 can be challenging with toddlers\, so they ask that the effort must be mad
 e. If anyone is feeling ill (even cold symptoms) we ask that you refrain f
 rom visiting. Please contact your group leader to let her know of your abs
 ence. \nQuestions: If you have any questions\, please contact Maria Sartor
 i-Weiland at maria@kicmke.org or Anna Graham at anna@kicmke.org.\n\nActivi
 ties\nAt each playgroup\, we follow the same structure to help children an
 d residents alike become familiar and comfortable in the playgroup. We beg
 in with a hello song followed by a book\, a craft\, and an activity. If ti
 me permits\, we will have free play followed by our goodbye song. We alway
 s have a new fun theme each month!\n\nPurpose\nTo provide an opportunity f
 or children\, caregivers\, and older adults to interact and play in a rela
 xed\, friendly\, and organized environment.\n\nImpact\nChildren will devel
 op awareness of and relationships with members of the community they would
  otherwise not meet. Residents in the assisted living facility will have a
  chance to be around our energetic and humorous cutie-pies and offer their
  love and gentle care for them.\n\nWhen and Where\nThursday\, May 18 from
  11-11:45 a.m.\n\nSaint John’s on the Lake\nNorth Tower\n1858 N. Prospe
 ct Ave\, Milwaukee 53202\nParking: Park in the north parking on the ground
  level under the building at 1858 N. Prospect Ave. Or you can park in the 
 south lot at 1800 N. Prospect Ave. Each of the entrances takes you into a 
 central lobby area.
ATTACH;FMTTYPE=image/jpeg:https://kicmke.org/wp-content/uploads/2023/03/In
 tergenerational-Playgroups-St.-Johns.png
CATEGORIES:Seniors
LOCATION:Saint John's on The Lake - North Tower\, 1858 N. Prospect Ave\, MI
 lwaukee\, Wisconsin\, 53202\, United States
X-APPLE-STRUCTURED-LOCATION;VALUE=URI;X-ADDRESS=1858 N. Prospect Ave\, MIlw
 aukee\, Wisconsin\, 53202\, United States;X-APPLE-RADIUS=100;X-TITLE=Saint
  John's on The Lake - North Tower:geo:0,0
END:VEVENT
BEGIN:VTIMEZONE
TZID:America/Chicago
X-LIC-LOCATION:America/Chicago
BEGIN:DAYLIGHT
DTSTART:20230312T030000
TZOFFSETFROM:-0600
TZOFFSETTO:-0500
TZNAME:CDT
END:DAYLIGHT
END:VTIMEZONE
END:VCALENDAR