BEGIN:VCALENDAR
VERSION:2.0
PRODID:-//wp-events-plugin.com//7.2.3.1//EN
TZID:America/Chicago
X-WR-TIMEZONE:America/Chicago
BEGIN:VEVENT
UID:208@kicmke.org
DTSTART;TZID=America/Chicago:20230516T103000
DTEND;TZID=America/Chicago:20230516T111500
DTSTAMP:20230505T193651Z
URL:https://kicmke.org/events/intergenerational-playgroups-eastcastle-plac
 e/
SUMMARY:Intergenerational Playgroups - Eastcastle Place
DESCRIPTION:Older adults have a special place in our hearts. Kids Impact Co
 mmunity has hosted intergenerational playgroups since the organization’s
  inception. Our kiddos have learned patience\, kindness\, and how to make 
 new friends of all ages\, and our grandfriends benefit tremendously from t
 he interaction with our children.\n\nRegistration Information\nCLICK HERE 
 TO REGISTER\nCost: Free\nAttire: Masks required per Eastcastle for adults
 . Have your kids dress for play.\nQuestions: If you have any questions\, 
 please contact Julia Mattek at julia@kicmke.org.\nActivities\nYour family 
 will participate in a variety of themed playgroups complete with songs\, d
 ancing\, a craft\, and snack.\nPurpose\nTo provide an opportunity for chil
 dren\, parents\, and assisted living residents to interact and play with e
 ach other in a relaxed\, friendly\, and organized environment.\n\nImpact\n
 Children will develop awareness of and relationships with members of the c
 ommunity they would otherwise not meet. Residents in the assisted living f
 acility will have a chance to be around our energetic and humorous cutie-p
 ies and offer their love and gentle care for them. \n\nWhen and Where\nMay
  16 from 10:30-11:15 a.m.\n\nEastcastle Place\n2505 E Bradford Place\, Mil
 waukee\, WI 53211\n\nPlease meet in the main lobby.\n\nParking: Street par
 king is available on Bradford Place or Stowell Ave. Please allow some time
  to find parking.
ATTACH;FMTTYPE=image/jpeg:https://kicmke.org/wp-content/uploads/2022/07/In
 tergenerational-Playgroups-Eastcastle.png
CATEGORIES:Seniors
LOCATION:Eastcastle Place\, 2505 E Bradford Place\, Milwaukee\, Wisconsin\,
  53211\, United States
X-APPLE-STRUCTURED-LOCATION;VALUE=URI;X-ADDRESS=2505 E Bradford Place\, Mil
 waukee\, Wisconsin\, 53211\, United States;X-APPLE-RADIUS=100;X-TITLE=East
 castle Place:geo:0,0
END:VEVENT
BEGIN:VTIMEZONE
TZID:America/Chicago
X-LIC-LOCATION:America/Chicago
BEGIN:DAYLIGHT
DTSTART:20230312T030000
TZOFFSETFROM:-0600
TZOFFSETTO:-0500
TZNAME:CDT
END:DAYLIGHT
END:VTIMEZONE
END:VCALENDAR