BEGIN:VCALENDAR
VERSION:2.0
PRODID:-//wp-events-plugin.com//7.2.3.1//EN
TZID:America/Chicago
X-WR-TIMEZONE:America/Chicago
BEGIN:VEVENT
UID:261@kicmke.org
DTSTART;TZID=America/Chicago:20230919T103000
DTEND;TZID=America/Chicago:20231219T111500
DTSTAMP:20231204T033512Z
URL:https://kicmke.org/events/intergenerational-playgroups-eastcastle-plac
 e-2023/
SUMMARY:Monthly Intergenerational Playgroup at Eastcastle
DESCRIPTION:REGISTER HERE\nOlder adults have a special place in our hearts.
  Kids Impact Community has hosted intergenerational playgroups since the o
 rganization’s inception. Our kiddos have learned patience\, kindness\, a
 nd how to make new friends of all ages\, and our grandfriends benefit trem
 endously from the interaction with our children.\nActivities\nYour family 
 will participate in a variety of themed playgroups complete with songs\, d
 ancing\, a craft\, and snack.\nPurpose\nTo provide an opportunity for chil
 dren\, parents\, and assisted living residents to interact and play with e
 ach other in a relaxed\, friendly\, and organized environment.\n\nImpact\n
 Children will develop awareness of and relationships with members of the c
 ommunity they would otherwise not meet. Residents in the assisted living f
 acility will have a chance to be around our energetic and humorous cutie-p
 ies and offer their love and gentle care for them. \n\nWhen &amp\; Where\n
 Sept. 19-Dec. 19 from 10:30-11:15 a.m.\n\nEastcastle Place\n2505 E Bradfor
 d Place\, Milwaukee\, WI 53211\n\nPlease meet in the main lobby.\n\nParkin
 g: Street parking is available on Bradford Place or Stowell Ave. Please al
 low some time to find parking.\n\nThe playgroup sessions occur on the thir
 d Tuesday of every month from 10:30-11:15 a.m. Below are the remaining opp
 ortunities for 2023:\n\n 	\n\n 	\nDecember 19\n\n\n\n\nWe encourage partic
 ipants to sign up for an entire session - if there are only a few dates yo
 u can make in the first or second session please just let the KIC team kno
 w. Signing up for a full session helps the residents see familiar faces a
 nd helps to ensure participation in our playgroups. Please reach out with 
 questions. \n\nRegistration Information\nCost: Free\nAttire: Masks requi
 red per Eastcastle for adults. Have your kids dress for play.\nQuestions:
  If you have any questions\, please contact Julia Mattek at julia@kicmke.
 org.
ATTACH;FMTTYPE=image/jpeg:https://kicmke.org/wp-content/uploads/2022/07/In
 tergenerational-Playgroups-Eastcastle.png
CATEGORIES:Seniors
END:VEVENT
BEGIN:VTIMEZONE
TZID:America/Chicago
X-LIC-LOCATION:America/Chicago
BEGIN:DAYLIGHT
DTSTART:20230312T030000
TZOFFSETFROM:-0600
TZOFFSETTO:-0500
TZNAME:CDT
END:DAYLIGHT
BEGIN:STANDARD
DTSTART:20231105T010000
TZOFFSETFROM:-0500
TZOFFSETTO:-0600
TZNAME:CST
END:STANDARD
END:VTIMEZONE
END:VCALENDAR