BEGIN:VCALENDAR
VERSION:2.0
PRODID:-//wp-events-plugin.com//7.2.3.1//EN
TZID:America/Chicago
X-WR-TIMEZONE:America/Chicago
BEGIN:VEVENT
UID:246@kicmke.org
DTSTART;TZID=America/Chicago:20230711T130000
DTEND;TZID=America/Chicago:20231010T160000
DTSTAMP:20230629T022919Z
URL:https://kicmke.org/events/gleaning-thiensville-village-market-2023/
SUMMARY:Gleaning at the Thiensville Village Market 2023
DESCRIPTION:REGISTER HERE\nDo you love farmers’ markets? Is your child a 
 social butterfly? Do you enjoy sharing fresh\, healthy foods with other fa
 milies in our community? If so\, we have a perfect opportunity for you! In
  partnership with Tikkun Ha-Ir\, KIC children and their caregivers will co
 llect donated produce from sellers at the Thiensville Village Market and d
 eliver to Family Sharing of Ozaukee County.\nActivities\nCome collect prod
 uce from local farmers on Tuesdays at Thiensville Village Market. Sign up 
 for one or more Tuesdays between July 11th and October 10th. The market is
  at Thiensville Village Park from 9 a.m.-2 p.m. Your family should arrive 
 around 1 p.m. and collect from the individual stands until 2 p.m. Bring a 
 cart or wagon or arm yourself with plenty of bags and boxes. Then deliver 
 the produce collection to Family Sharing of Ozaukee County before 4 p.m. 
 \nPurpose &amp\; Impact\nChildren and caregivers will serve and act with c
 onfidence and compassion towards others by collecting and sharing healthy 
 foods with a local food share center.\n\nWhen &amp\; Where\nTuesdays from 
 July 11 to Oct. 10 between 1-4 p.m.\n\nThiensville Village Market and Fami
 ly Sharing of Ozaukee County\n\nLocated in Village Park at 250 Elm St\, Th
 iensville\, WI 53092\n\nFamily Sharing of Ozaukee County is located at 100
 2 Overland Court\, Grafton\, WI 53024. They have a food pantry that goes u
 ntil 4 p.m. on Tuesday\, and another one on Wednesday. It is a perfect rec
 ipient for the collected donations.\n\nYou will be able to indicate in the
  registration link which weeks you are able and willing to help collect fo
 od.\nRegistration Information\nAges: All ages welcome!\nCost: Free\nQuesti
 ons or Cancelations: Please email lynn@kicmke.org or info@kicmke.org if y
 ou have any questions or if you are unable to make it so we can make sure 
 we have a replacement for the experience.\n\nMore Information\n\n 	For mor
 e information about Family Sharing of Ozaukee County: https://www.familysh
 aringozaukee.org/\n 	For more information about the Thiensville Village Ma
 rket: https://thiensvillebusiness.com/village-market/\n
ATTACH;FMTTYPE=image/jpeg:https://kicmke.org/wp-content/uploads/2023/06/Gl
 eaning-at-the-Thiensville-Village-Market-2023.png
CATEGORIES:On Your Own
END:VEVENT
BEGIN:VTIMEZONE
TZID:America/Chicago
X-LIC-LOCATION:America/Chicago
BEGIN:DAYLIGHT
DTSTART:20230312T030000
TZOFFSETFROM:-0600
TZOFFSETTO:-0500
TZNAME:CDT
END:DAYLIGHT
END:VTIMEZONE
END:VCALENDAR