BEGIN:VCALENDAR
VERSION:2.0
PRODID:-//wp-events-plugin.com//7.2.3.1//EN
TZID:America/Chicago
X-WR-TIMEZONE:America/Chicago
BEGIN:VEVENT
UID:599@kicmke.org
DTSTART;TZID=America/Chicago;VALUE=DATE:20251202
DTEND;TZID=America/Chicago;VALUE=DATE:20251203
DTSTAMP:20251102T230137Z
URL:https://kicmke.org/events/giving-tuesday-2025/
SUMMARY:Giving Tuesday
DESCRIPTION:\n\nJoin us for Giving Tuesday on December 2\, 2025! Kids Impa
 ct Community is thrilled to announce that Sendik’s Food Market has aga
 in generously partnered with us to match every donation made on Giving Tue
 sday up to $5\,000!\n\nYour donations are essential in driving our mission
  forward to sustain our service projects and create new service opportunit
 ies\, empowering children of all ages to actively strengthen and transform
  the Milwaukee community.\n\n\n\nSave the date for our Giving Tuesday even
 t by using the "Add to Calendar" feature at the top of this page. Stay tun
 ed for more information through email or stay up-to-date by following us o
 n Facebook and Instagram.
ATTACH;FMTTYPE=image/jpeg:https://kicmke.org/wp-content/uploads/2025/11/20
 25-Giving-Tuesday-1-1.jpg
END:VEVENT
BEGIN:VTIMEZONE
TZID:America/Chicago
X-LIC-LOCATION:America/Chicago
BEGIN:STANDARD
DTSTART:20251102T010000
TZOFFSETFROM:-0500
TZOFFSETTO:-0600
TZNAME:CST
END:STANDARD
END:VTIMEZONE
END:VCALENDAR