BEGIN:VCALENDAR
VERSION:2.0
PRODID:-//wp-events-plugin.com//7.2.3.1//EN
TZID:America/Chicago
X-WR-TIMEZONE:America/Chicago
BEGIN:VEVENT
UID:243@kicmke.org
DTSTART;TZID=America/Chicago:20230617T083000
DTEND;TZID=America/Chicago:20230617T103000
DTSTAMP:20230531T215920Z
URL:https://kicmke.org/events/gardening-good-planting-work-day/
SUMMARY:Gardening for Good: Planting Work Day
DESCRIPTION:REGISTER HERE\nAs part of our Summer Gardening for Good Series\
 , Kids Impact Community will have eight garden plots at Parkway Elementary
  School in Glendale. Families will have the opportunity to get dirty\, ten
 d and explore the garden\, and harvest food to donate to our local partner
 s at Kinship Community Food Center. Green thumbs are not required. If you 
 should have questions or need assistance during your week\, we will provid
 e that!\n\nActivities\nAll participating families will dig and weed in the
  eight garden plots\, as well as plant flowers\, herbs\, and vegetables.\n
 Purpose\nTake responsibility for and plant a community garden with your fa
 mily.\nImpact\n In addition to the immediate benefits of gardening with f
 amily\, the Kinship Community Food Center will receive harvested crop (foo
 d and flower) donations from our garden throughout the summer.\nWhen &amp\
 ; Where\nSaturday\, June 17 from 8:30-10:30 a.m.\n\nParkway Elementary in 
 Glendale\n\n5910 N Milwaukee River Pkwy\, Glendale\, WI 53209\nRegistratio
 n Information\nParticipant Cap: 30 volunteers\n\nAge: All ages welcome!\n\
 nCost: None (KIC covers the cost of the garden plot and supplies)\n\nMater
 ials: Please bring your own tools to the garden. If you do not have tools 
 available\, please contact Emily Bandsma at emilyb@kicmke.org.\n\nQuestion
 s: Please contact Emily Bandsma at emilyb@kicmke.org with any questions.\n
 More Information\nParenting information on gardening with kids:\n- https:/
 /www.bemidjipioneer.com/community/master-gardener-gardening-with-children-
 has-lifelong-benefits\n- http://www.pbs.org/parents/expert-tips-advice/201
 6/03/gardening-kids-affects-childs-brain-body-soul/
ATTACH;FMTTYPE=image/jpeg:https://kicmke.org/wp-content/uploads/2023/05/Pl
 anting-Work-Day-Gardening-for-Good-2-1.png
CATEGORIES:Nature
END:VEVENT
BEGIN:VTIMEZONE
TZID:America/Chicago
X-LIC-LOCATION:America/Chicago
BEGIN:DAYLIGHT
DTSTART:20230312T030000
TZOFFSETFROM:-0600
TZOFFSETTO:-0500
TZNAME:CDT
END:DAYLIGHT
END:VTIMEZONE
END:VCALENDAR