BEGIN:VCALENDAR
VERSION:2.0
PRODID:-//wp-events-plugin.com//7.2.3.1//EN
TZID:America/Chicago
X-WR-TIMEZONE:America/Chicago
BEGIN:VEVENT
UID:389@kicmke.org
DTSTART;TZID=America/Chicago:20240926T090000
DTEND;TZID=America/Chicago:20240926T110000
DTSTAMP:20240902T155603Z
URL:https://kicmke.org/events/gardening-for-good-hoop-house-helpers-sept20
 24/
SUMMARY:Gardening for Good: Hoop House Helpers
DESCRIPTION:REGISTER HERE\nTake care of Kinship Community Food Center's (Ki
 nship) urban farm hoop houses and help them harvest healthy flowers\, frui
 ts\, and veggies! Kinship's hoop houses provide fresh and local food to th
 ose in need. Volunteers will cultivate\, plant\, water\, and harvest fresh
  produce that will be provided to families facing food insecurity in the a
 rea.\nActivities\nKids will be gardening inside the hoop houses and planti
 ng\, harvesting\, weeding\, moving soil\, and all things related to the ge
 neral maintenance of the site.\nPurpose\nKids will have the opportunity to
  get dirty\, tend and explore the garden\, and harvest food to donate to K
 inship Community Food Center.\n\nImpact\nEnjoy a fun\, hands-on experience
  gardening while learning about food insecurity in our local community. P
 lus a little gardening and physical activity is healthy too!\n\nWhen &amp\
 ; Where\nThursday\, September 26 from 9-11 a.m.\nThe hoop houses are locat
 ed at the Maglio Tomato Building\, 4287 N Port Washington Road\, Milwaukee
 \, WI 53212. Please park in the lot on the North side of the building and 
 walk through the fence to the big hoop houses.\n\nRegistration Information
 \nParticipants: 12 families or small groups\nAges: All ages welcome\nCost:
  Free\nMaterials: Be ready to get dirty! In addition\, please be prepared 
 to bring a water bottle\, closed-toed and water-proof shoes\, gardening gl
 oves\, sunscreen\, and anything else you and your family may need for a tw
 o-hour event.\nQuestions: Please contact Senta Metz at senta@kickmke.org w
 ith any questions. We will send you an email to confirm registration and t
 ouch base before the event.\nCancellations: Please contact Senta Metz at s
 enta@kickmke.org asap in the event of a cancellation so we can add waitlis
 ted families to the event.\n\nOur Partner\nKinship Community Food Center e
 ngages volunteers and neighborhood residents to end hunger\, isolation\, a
 nd poverty. Their innovative programs nourish food security and wellness\,
  foster belonging and community engagement\, and empower stability\, and e
 conomic prosperity in the city of Milwaukee. Learn more about Kinship Comm
 unity Food Center and their urban farming here.
ATTACH;FMTTYPE=image/jpeg:https://kicmke.org/wp-content/uploads/2022/06/Ga
 rdening-for-Good-Hoop-House.png
CATEGORIES:Nature
END:VEVENT
BEGIN:VTIMEZONE
TZID:America/Chicago
X-LIC-LOCATION:America/Chicago
BEGIN:DAYLIGHT
DTSTART:20240310T030000
TZOFFSETFROM:-0600
TZOFFSETTO:-0500
TZNAME:CDT
END:DAYLIGHT
END:VTIMEZONE
END:VCALENDAR