BEGIN:VCALENDAR
VERSION:2.0
PRODID:-//wp-events-plugin.com//7.2.3.1//EN
TZID:America/Chicago
X-WR-TIMEZONE:America/Chicago
BEGIN:VEVENT
UID:341@kicmke.org
DTSTART;TZID=America/Chicago:20240511T093000
DTEND;TZID=America/Chicago:20240511T113000
DTSTAMP:20240428T200223Z
URL:https://kicmke.org/events/gardening-for-good-hoop-house-helpers-may-cl
 ean-up/
SUMMARY:Gardening for Good: Hoop House Helpers May Clean Up
DESCRIPTION:REGISTER HERE\nTake care of Kinship Community Food Center's (Ki
 nship) urban farm hoop houses this spring so they can harvest healthy fru
 its and veggies this summer! Kinship's hoop houses provide fresh and local
  food to those in need. Volunteers will cultivate\, plant\, water\, and ha
 rvest fresh produce that will be provided to shoppers at Kinship.\nActivit
 ies\nKids will be gardening inside the hoop houses and planting\, harvesti
 ng\, weeding\, moving soil\, and all things related to the general mainten
 ance of the site.\nPurpose\nKids will have the opportunity to get dirty\, 
 tend and explore the garden\, and harvest food to donate to Kinship Commun
 ity Food Center.\n\nImpact\nEnjoy a fun\, hands-on experience gardening wh
 ile learning about food insecurity in our local community.\n\nWhen &amp\; 
 Where\nSaturday\, May 11 from 9:30-11:30 a.m.\nThe hoop houses are located
  at the Maglio Tomato Building\, 4287 N Port Washington Road\, Milwaukee\,
  WI 53212. Please park in the lot on the North side of the building and wa
 lk through the fence to the big hoop houses.\n\nRegistration Information\n
 Participants: Twelve families or small groups\nAges: All ages welcome\nCos
 t: Free\nMaterials: Dress in layers as hoop houses tend to be hotter than 
 outside temperatures. Be ready to get dirty! In addition\, please be prepa
 red to bring a water bottle\, closed-toed and water-proof shoes\, gardenin
 g gloves\, sunscreen\, and anything else you and your family may need for 
 a two-hour event.\nQuestions: Please contact Senta Metz at senta@kickmke.o
 rg with any questions. We will send you an email to confirm registration a
 nd touch base before the event.\nCancellations: Please contact Senta Metz 
 at senta@kickmke.org asap in the event of a cancellation so we can add wai
 tlisted families to the event.\n\nOur Partner\nKinship Community Food Cent
 er engages volunteers and neighborhood residents to end hunger\, isolation
 \, and poverty. Their innovative programs nourish food security and wellne
 ss\, foster belonging and community engagement\, and empower stability\, a
 nd economic prosperity in the city of Milwaukee. Learn more about Kinship 
 Community Food Center and their urban farming here.
ATTACH;FMTTYPE=image/jpeg:https://kicmke.org/wp-content/uploads/2022/06/Ga
 rdening-for-Good-Hoop-House.png
CATEGORIES:Children and Families
END:VEVENT
BEGIN:VTIMEZONE
TZID:America/Chicago
X-LIC-LOCATION:America/Chicago
BEGIN:DAYLIGHT
DTSTART:20240310T030000
TZOFFSETFROM:-0600
TZOFFSETTO:-0500
TZNAME:CDT
END:DAYLIGHT
END:VTIMEZONE
END:VCALENDAR