BEGIN:VCALENDAR
VERSION:2.0
PRODID:-//wp-events-plugin.com//7.2.3.1//EN
TZID:America/Chicago
X-WR-TIMEZONE:America/Chicago
BEGIN:VEVENT
UID:363@kicmke.org
DTSTART;TZID=America/Chicago:20240622T093000
DTEND;TZID=America/Chicago:20240622T113000
DTSTAMP:20240602T212725Z
URL:https://kicmke.org/events/gardening-for-good-hoop-house-helpers-june20
 24/
SUMMARY:Gardening for Good: Hoop House Helpers
DESCRIPTION:REGISTER HERE\nTake care of Kinship Community Food Center's (Ki
 nship) urban farm hoop houses this summer season so they can harvest healt
 hy flowers\, fruits\, and veggies! Kinship's hoop houses provide fresh and
  local food to those in need. Volunteers will cultivate\, plant\, water\, 
 and harvest fresh produce that will be provided to families facing food in
 security in the area.\nActivities\nKids will be gardening inside the hoop 
 houses and planting\, harvesting\, weeding\, moving soil\, and all things 
 related to the general maintenance of the site.\nPurpose\nKids will have t
 he opportunity to get dirty\, tend and explore the garden\, and harvest fo
 od to donate to Kinship Community Food Center.\n\nImpact\nEnjoy a fun\, ha
 nds-on experience gardening while learning about food insecurity in our lo
 cal community. Plus a little gardening and physical activity is healthy t
 oo!\n\nWhen &amp\; Where\nSaturday\, June 22 from 9:30-11:30 a.m.\nThe hoo
 p houses are located at the Maglio Tomato Building\, 4287 N Port Washingto
 n Road\, Milwaukee\, WI 53212. Please park in the lot on the North side of
  the building and walk through the fence to the big hoop houses.\n\nRegist
 ration Information\nParticipants: Twelve families or small groups\nAges: A
 ll ages welcome\nCost: Free\nMaterials: Be ready to get dirty! In addition
 \, please be prepared to bring a water bottle\, closed-toed and water-proo
 f shoes\, gardening gloves\, sunscreen\, and anything else you and your fa
 mily may need for a two-hour event.\nQuestions: Please contact Senta Metz 
 at senta@kickmke.org with any questions. We will send you an email to conf
 irm registration and touch base before the event.\nCancellations: Please c
 ontact Senta Metz at senta@kickmke.org asap in the event of a cancellation
  so we can add waitlisted families to the event.\n\nOur Partner\nKinship C
 ommunity Food Center engages volunteers and neighborhood residents to end 
 hunger\, isolation\, and poverty. Their innovative programs nourish food s
 ecurity and wellness\, foster belonging and community engagement\, and emp
 ower stability\, and economic prosperity in the city of Milwaukee. Learn m
 ore about Kinship Community Food Center and their urban farming here.
ATTACH;FMTTYPE=image/jpeg:https://kicmke.org/wp-content/uploads/2022/06/Ga
 rdening-for-Good-Hoop-House.png
CATEGORIES:Nature
END:VEVENT
BEGIN:VTIMEZONE
TZID:America/Chicago
X-LIC-LOCATION:America/Chicago
BEGIN:DAYLIGHT
DTSTART:20240310T030000
TZOFFSETFROM:-0600
TZOFFSETTO:-0500
TZNAME:CDT
END:DAYLIGHT
END:VTIMEZONE
END:VCALENDAR