BEGIN:VCALENDAR
VERSION:2.0
PRODID:-//wp-events-plugin.com//7.2.3.1//EN
TZID:America/Chicago
X-WR-TIMEZONE:America/Chicago
BEGIN:VEVENT
UID:258@kicmke.org
DTSTART;TZID=America/Chicago:20230810T100000
DTEND;TZID=America/Chicago:20230810T113000
DTSTAMP:20230727T014547Z
URL:https://kicmke.org/events/gardening-for-good-hoop-house-helpers-aug-10
 -23/
SUMMARY:Gardening for Good: Hoop House Helpers
DESCRIPTION:REGISTER HERE\nJoin Kids Impact Community to help Kinship Comm
 unity Food Center at their urban farm “hoop houses” at Maglio Tomato B
 uilding in Milwaukee! Volunteers will cultivate\, plant\, water\, and harv
 est fresh produce such as tomatoes\, zucchini\, beans\, and kale that will
  be provided to shoppers at Kinship Community Food Center. There are curre
 ntly 11 “hoop houses” ready to provide fresh local food to those in ne
 ed!\nActivities\nKids will be gardening inside the “hoop houses” and p
 lanting\, harvesting\, weeding\, moving soil\, and all things related to t
 he general maintenance of the site.\nPurpose\nKids will have the opportuni
 ty to get dirty\, tend and explore the garden\, and harvest food to donate
  to Kinship Community Food Center.\n\nImpact\nEnjoy a fun\, hands-on exper
 ience gardening while learning about food insecurity in our local communit
 y.\n\nWhen &amp\; Where\nThursday\, Aug. 10 from 10-11:30 a.m.\nThe “hoo
 p houses” are located at the Maglio Tomato Building\, 4287 N Port Washin
 gton Road\, Milwaukee\, WI 53212. Please park in the lot on the North sid
 e of the building and walk through the fence to the big “hoop houses.”
 \nCan’t make Aug. 10? Join us during the Aug. 26 Hoop Houses event!\n\nR
 egistration Information\nParticipants: Five families and all ages welcome\
 nCost: Free\nMaterials: Dress in layers as “hoop houses” tend to be ho
 tter than outside temperatures. Be ready to get dirty! In addition\, pleas
 e be prepared to bring a water bottle\, closed-toed shoes\, and sunscreen.
 \nQuestions: Please contact Annie Turim at annie@kicmke.org with any quest
 ions. We will send you an email to confirm registration and touch base bef
 ore the event.\nCancellations: Please contact Annie Turim at annie@kicmke.
 org asap in the event of a cancellation so we can add waitlisted families
  to the event.
ATTACH;FMTTYPE=image/jpeg:https://kicmke.org/wp-content/uploads/2022/06/Ga
 rdening-for-Good-Hoop-House.png
CATEGORIES:Children and Families,Nature
END:VEVENT
BEGIN:VTIMEZONE
TZID:America/Chicago
X-LIC-LOCATION:America/Chicago
BEGIN:DAYLIGHT
DTSTART:20230312T030000
TZOFFSETFROM:-0600
TZOFFSETTO:-0500
TZNAME:CDT
END:DAYLIGHT
END:VTIMEZONE
END:VCALENDAR