BEGIN:VCALENDAR
VERSION:2.0
PRODID:-//wp-events-plugin.com//7.2.3.1//EN
TZID:America/Chicago
X-WR-TIMEZONE:America/Chicago
BEGIN:VEVENT
UID:233@kicmke.org
DTSTART;TZID=America/Chicago:20230624T100000
DTEND;TZID=America/Chicago:20230624T113000
DTSTAMP:20230531T222214Z
URL:https://kicmke.org/events/gardening-for-good-hoop-house-helpers-3/
SUMMARY:Gardening for Good: Hoop House Helpers
DESCRIPTION:REGISTER HERE\nJoin Kids Impact Community to help Groundwork M
 ilwaukee prepare their gardens at the urban farm “hoop houses” in Glen
 dale! Volunteers will cultivate\, plant\, water\, and harvest fresh produc
 e such as tomatoes\, zucchini\, beans\, and kale that will be provided to 
 shoppers at Kinship Community Food Center. Groundwork Milwaukee collaborat
 es with Kinship Community Food Center to provide food systems in the Milwa
 ukee area. There are currently 11 “hoop houses” ready to provide fresh
  local food to those in need!\nActivities\nKids will be gardening inside t
 he “hoop houses” and planting\, harvesting\, weeding\, moving soil\, a
 nd all things related to the general maintenance of the site.\nPurpose\nKi
 ds will have the opportunity to get dirty\, tend and explore the garden\, 
 and harvest food to donate to Kinship Community Food Center.\n\nImpact\nEn
 joy a fun\, hands-on experience gardening while learning about food insecu
 rity in our local community.\n\nWhen and Where\nSaturday\, June 24 from 10
 -11:30 a.m.\nThe “hoop houses” are located at the Maglio Tomato Buildi
 ng\, 4287 N Port Washington Road\, Milwaukee\, WI 53212. Please park in t
 he lot on the North side of the building and walk through the fence to the
  big “hoop houses.”\n\nRegistration Information\nParticipants: Five fa
 milies and all ages welcome\nCost: Free\nMaterials: Dress in layers as “
 hoop houses” tend to be hotter than outside temperatures. Be ready to ge
 t dirty! In addition\, please be prepared to bring a water bottle\, closed
 -toed shoes\, and sunscreen.\nQuestions: Please contact Annie Turim at ann
 ie@kicmke.org with any questions. We will send you an email to confirm reg
 istration and touch base before the event.\n\nCancellations: Please contac
 t Annie Turim at annie@kicmke.org asap in the event of a cancellation so 
 we can add waitlisted families to the event.\nFor more information on Grou
 ndwork Milwaukee\, visit their website.
ATTACH;FMTTYPE=image/jpeg:https://kicmke.org/wp-content/uploads/2022/06/Ga
 rdening-for-Good-Hoop-House.png
CATEGORIES:Children and Families,Nature
END:VEVENT
BEGIN:VTIMEZONE
TZID:America/Chicago
X-LIC-LOCATION:America/Chicago
BEGIN:DAYLIGHT
DTSTART:20230312T030000
TZOFFSETFROM:-0600
TZOFFSETTO:-0500
TZNAME:CDT
END:DAYLIGHT
END:VTIMEZONE
END:VCALENDAR